BEGIN:VCALENDAR
VERSION:2.0
PRODID:-//Crawfordsville Gun Club - ECPv6.15.20//NONSGML v1.0//EN
CALSCALE:GREGORIAN
METHOD:PUBLISH
X-WR-CALNAME:Crawfordsville Gun Club
X-ORIGINAL-URL:https://www.crawfordsvillegunclub.org
X-WR-CALDESC:Events for Crawfordsville Gun Club
REFRESH-INTERVAL;VALUE=DURATION:PT1H
X-Robots-Tag:noindex
X-PUBLISHED-TTL:PT1H
BEGIN:VTIMEZONE
TZID:America/Indiana/Indianapolis
BEGIN:DAYLIGHT
TZOFFSETFROM:-0500
TZOFFSETTO:-0400
TZNAME:EDT
DTSTART:20240310T070000
END:DAYLIGHT
BEGIN:STANDARD
TZOFFSETFROM:-0400
TZOFFSETTO:-0500
TZNAME:EST
DTSTART:20241103T060000
END:STANDARD
BEGIN:DAYLIGHT
TZOFFSETFROM:-0500
TZOFFSETTO:-0400
TZNAME:EDT
DTSTART:20250309T070000
END:DAYLIGHT
BEGIN:STANDARD
TZOFFSETFROM:-0400
TZOFFSETTO:-0500
TZNAME:EST
DTSTART:20251102T060000
END:STANDARD
BEGIN:DAYLIGHT
TZOFFSETFROM:-0500
TZOFFSETTO:-0400
TZNAME:EDT
DTSTART:20260308T070000
END:DAYLIGHT
BEGIN:STANDARD
TZOFFSETFROM:-0400
TZOFFSETTO:-0500
TZNAME:EST
DTSTART:20261101T060000
END:STANDARD
BEGIN:DAYLIGHT
TZOFFSETFROM:-0500
TZOFFSETTO:-0400
TZNAME:EDT
DTSTART:20270314T070000
END:DAYLIGHT
BEGIN:STANDARD
TZOFFSETFROM:-0400
TZOFFSETTO:-0500
TZNAME:EST
DTSTART:20271107T060000
END:STANDARD
END:VTIMEZONE
BEGIN:VEVENT
DTSTART;TZID=America/Indiana/Indianapolis:20260201T090000
DTEND;TZID=America/Indiana/Indianapolis:20260201T100000
DTSTAMP:20260421T115021
CREATED:20251207T172110Z
LAST-MODIFIED:20260128T213858Z
UID:2339-1769936400-1769940000@www.crawfordsvillegunclub.org
SUMMARY:Board meeting. This meeting has been cancelled due to weather conditions
DESCRIPTION:
URL:https://www.crawfordsvillegunclub.org/event/board-meeting-61/
END:VEVENT
BEGIN:VEVENT
DTSTART;TZID=America/Indiana/Indianapolis:20260104T090000
DTEND;TZID=America/Indiana/Indianapolis:20260104T100000
DTSTAMP:20260421T115021
CREATED:20251127T131928Z
LAST-MODIFIED:20251127T132646Z
UID:2331-1767517200-1767520800@www.crawfordsvillegunclub.org
SUMMARY:Board Meeting
DESCRIPTION:
URL:https://www.crawfordsvillegunclub.org/event/board-meeting-60/
END:VEVENT
BEGIN:VEVENT
DTSTART;VALUE=DATE:20251225
DTEND;VALUE=DATE:20251226
DTSTAMP:20260421T115021
CREATED:20251027T205600Z
LAST-MODIFIED:20251027T205600Z
UID:2303-1766620800-1766707199@www.crawfordsvillegunclub.org
SUMMARY:Christmas
DESCRIPTION:
URL:https://www.crawfordsvillegunclub.org/event/christmas-2/
END:VEVENT
BEGIN:VEVENT
DTSTART;TZID=America/Indiana/Indianapolis:20251207T090000
DTEND;TZID=America/Indiana/Indianapolis:20251207T100000
DTSTAMP:20260421T115021
CREATED:20251027T204459Z
LAST-MODIFIED:20251027T204459Z
UID:2293-1765098000-1765101600@www.crawfordsvillegunclub.org
SUMMARY:Board meeting
DESCRIPTION:
URL:https://www.crawfordsvillegunclub.org/event/board-meeting-59/
END:VEVENT
BEGIN:VEVENT
DTSTART;TZID=America/Indiana/Indianapolis:20251130T100000
DTEND;TZID=America/Indiana/Indianapolis:20251130T130000
DTSTAMP:20260421T115021
CREATED:20251003T185348Z
LAST-MODIFIED:20251003T185348Z
UID:2253-1764496800-1764507600@www.crawfordsvillegunclub.org
SUMMARY:Trap and 22 shoot
DESCRIPTION:
URL:https://www.crawfordsvillegunclub.org/event/trap-and-22-shoot-41/
END:VEVENT
BEGIN:VEVENT
DTSTART;VALUE=DATE:20251127
DTEND;VALUE=DATE:20251128
DTSTAMP:20260421T115021
CREATED:20251006T005201Z
LAST-MODIFIED:20251006T005201Z
UID:2276-1764201600-1764287999@www.crawfordsvillegunclub.org
SUMMARY:Thanksgiving.
DESCRIPTION:
URL:https://www.crawfordsvillegunclub.org/event/thanksgiving/
END:VEVENT
BEGIN:VEVENT
DTSTART;TZID=America/Indiana/Indianapolis:20251123T100000
DTEND;TZID=America/Indiana/Indianapolis:20251123T130000
DTSTAMP:20260421T115021
CREATED:20251003T185314Z
LAST-MODIFIED:20251003T185314Z
UID:2251-1763892000-1763902800@www.crawfordsvillegunclub.org
SUMMARY:Trap and 22 shoot
DESCRIPTION:
URL:https://www.crawfordsvillegunclub.org/event/trap-and-22-shoot-36/
END:VEVENT
BEGIN:VEVENT
DTSTART;TZID=America/Indiana/Indianapolis:20251116T100000
DTEND;TZID=America/Indiana/Indianapolis:20251116T130000
DTSTAMP:20260421T115021
CREATED:20251003T185234Z
LAST-MODIFIED:20251003T185234Z
UID:2249-1763287200-1763298000@www.crawfordsvillegunclub.org
SUMMARY:Trap and 22 shoot
DESCRIPTION:
URL:https://www.crawfordsvillegunclub.org/event/trap-and-22-shoot-35/
END:VEVENT
BEGIN:VEVENT
DTSTART;VALUE=DATE:20251111
DTEND;VALUE=DATE:20251112
DTSTAMP:20260421T115021
CREATED:20251006T005055Z
LAST-MODIFIED:20251006T005055Z
UID:2274-1762819200-1762905599@www.crawfordsvillegunclub.org
SUMMARY:Veterans Day. Thank a Vet!
DESCRIPTION:
URL:https://www.crawfordsvillegunclub.org/event/veterans-day-thank-a-vet/
END:VEVENT
BEGIN:VEVENT
DTSTART;TZID=America/Indiana/Indianapolis:20251109T100000
DTEND;TZID=America/Indiana/Indianapolis:20251109T130000
DTSTAMP:20260421T115021
CREATED:20251003T185052Z
LAST-MODIFIED:20251003T185052Z
UID:2247-1762682400-1762693200@www.crawfordsvillegunclub.org
SUMMARY:Trap and 22 shoot
DESCRIPTION:
URL:https://www.crawfordsvillegunclub.org/event/trap-and-22-shoot-34/
END:VEVENT
BEGIN:VEVENT
DTSTART;VALUE=DATE:20251104
DTEND;VALUE=DATE:20251105
DTSTAMP:20260421T115021
CREATED:20251006T004926Z
LAST-MODIFIED:20251006T004926Z
UID:2272-1762214400-1762300799@www.crawfordsvillegunclub.org
SUMMARY:Election Day. Vote!
DESCRIPTION:
URL:https://www.crawfordsvillegunclub.org/event/election-day-vote/
END:VEVENT
BEGIN:VEVENT
DTSTART;TZID=America/Indiana/Indianapolis:20251102T100000
DTEND;TZID=America/Indiana/Indianapolis:20251102T130000
DTSTAMP:20260421T115021
CREATED:20251003T185011Z
LAST-MODIFIED:20251003T185011Z
UID:2245-1762077600-1762088400@www.crawfordsvillegunclub.org
SUMMARY:Trap and 22 shoot
DESCRIPTION:
URL:https://www.crawfordsvillegunclub.org/event/trap-and-22-shoot-33/
END:VEVENT
BEGIN:VEVENT
DTSTART;TZID=America/Indiana/Indianapolis:20251102T090000
DTEND;TZID=America/Indiana/Indianapolis:20251102T100000
DTSTAMP:20260421T115021
CREATED:20251003T184935Z
LAST-MODIFIED:20251003T184935Z
UID:2243-1762074000-1762077600@www.crawfordsvillegunclub.org
SUMMARY:Board meeting
DESCRIPTION:
URL:https://www.crawfordsvillegunclub.org/event/board-meeting-58/
END:VEVENT
BEGIN:VEVENT
DTSTART;VALUE=DATE:20251102
DTEND;VALUE=DATE:20251103
DTSTAMP:20260421T115021
CREATED:20251006T004835Z
LAST-MODIFIED:20251006T004835Z
UID:2270-1762041600-1762127999@www.crawfordsvillegunclub.org
SUMMARY:Daylight savings time ends. Set clocks back an hour
DESCRIPTION:
URL:https://www.crawfordsvillegunclub.org/event/daylight-savings-time-ends-set-clocks-back-an-hour/
END:VEVENT
BEGIN:VEVENT
DTSTART;TZID=America/Indiana/Indianapolis:20251029T180000
DTEND;TZID=America/Indiana/Indianapolis:20251029T200000
DTSTAMP:20260421T115021
CREATED:20250823T160912Z
LAST-MODIFIED:20250823T160912Z
UID:2167-1761760800-1761768000@www.crawfordsvillegunclub.org
SUMMARY:Stock 10-22 shoot
DESCRIPTION:
URL:https://www.crawfordsvillegunclub.org/event/stock-10-22-shoot-15/
END:VEVENT
BEGIN:VEVENT
DTSTART;TZID=America/Indiana/Indianapolis:20251026T140000
DTEND;TZID=America/Indiana/Indianapolis:20251026T160000
DTSTAMP:20260421T115021
CREATED:20251014T223004Z
LAST-MODIFIED:20251014T223004Z
UID:2283-1761487200-1761494400@www.crawfordsvillegunclub.org
SUMMARY:Vintage 22 rifle shoot
DESCRIPTION:
URL:https://www.crawfordsvillegunclub.org/event/vintage-22-rifle-shoot/
END:VEVENT
BEGIN:VEVENT
DTSTART;TZID=America/Indiana/Indianapolis:20251026T100000
DTEND;TZID=America/Indiana/Indianapolis:20251026T130000
DTSTAMP:20260421T115021
CREATED:20250925T210448Z
LAST-MODIFIED:20250925T210448Z
UID:2235-1761472800-1761483600@www.crawfordsvillegunclub.org
SUMMARY:Trap and 22 shoot
DESCRIPTION:
URL:https://www.crawfordsvillegunclub.org/event/trap-and-22-shoot-40/
END:VEVENT
BEGIN:VEVENT
DTSTART;TZID=America/Indiana/Indianapolis:20251022T180000
DTEND;TZID=America/Indiana/Indianapolis:20251022T200000
DTSTAMP:20260421T115021
CREATED:20250823T160747Z
LAST-MODIFIED:20250823T160747Z
UID:2163-1761156000-1761163200@www.crawfordsvillegunclub.org
SUMMARY:Stock 10-22 shoot
DESCRIPTION:
URL:https://www.crawfordsvillegunclub.org/event/stock-10-22-shoot-14/
END:VEVENT
BEGIN:VEVENT
DTSTART;TZID=America/Indiana/Indianapolis:20251019T100000
DTEND;TZID=America/Indiana/Indianapolis:20251019T130000
DTSTAMP:20260421T115021
CREATED:20250925T210402Z
LAST-MODIFIED:20250925T210402Z
UID:2233-1760868000-1760878800@www.crawfordsvillegunclub.org
SUMMARY:Trap and 22 shoot
DESCRIPTION:
URL:https://www.crawfordsvillegunclub.org/event/trap-and-22-shoot-39/
END:VEVENT
BEGIN:VEVENT
DTSTART;TZID=America/Indiana/Indianapolis:20251015T180000
DTEND;TZID=America/Indiana/Indianapolis:20251015T200000
DTSTAMP:20260421T115021
CREATED:20250823T160504Z
LAST-MODIFIED:20250823T161145Z
UID:2159-1760551200-1760558400@www.crawfordsvillegunclub.org
SUMMARY:Stock 10-22 shoot
DESCRIPTION:
URL:https://www.crawfordsvillegunclub.org/event/standard-10-22-shoot-3/
END:VEVENT
BEGIN:VEVENT
DTSTART;TZID=America/Indiana/Indianapolis:20251012T100000
DTEND;TZID=America/Indiana/Indianapolis:20251012T130000
DTSTAMP:20260421T115021
CREATED:20250925T210330Z
LAST-MODIFIED:20250925T210330Z
UID:2231-1760263200-1760274000@www.crawfordsvillegunclub.org
SUMMARY:Trap and 22 shoot
DESCRIPTION:
URL:https://www.crawfordsvillegunclub.org/event/trap-and-22-shoot-38/
END:VEVENT
BEGIN:VEVENT
DTSTART;TZID=America/Indiana/Indianapolis:20251008T180000
DTEND;TZID=America/Indiana/Indianapolis:20251008T200000
DTSTAMP:20260421T115021
CREATED:20250823T155702Z
LAST-MODIFIED:20250823T161326Z
UID:2155-1759946400-1759953600@www.crawfordsvillegunclub.org
SUMMARY:Stock 10-22 shoot
DESCRIPTION:
URL:https://www.crawfordsvillegunclub.org/event/standard-10-22-shoot-2/
END:VEVENT
BEGIN:VEVENT
DTSTART;TZID=America/Indiana/Indianapolis:20251005T100000
DTEND;TZID=America/Indiana/Indianapolis:20251005T130000
DTSTAMP:20260421T115021
CREATED:20250925T210221Z
LAST-MODIFIED:20250925T210221Z
UID:2228-1759658400-1759669200@www.crawfordsvillegunclub.org
SUMMARY:Trap and 22 shoot
DESCRIPTION:
URL:https://www.crawfordsvillegunclub.org/event/trap-and-22-shoot-37/
END:VEVENT
BEGIN:VEVENT
DTSTART;TZID=America/Indiana/Indianapolis:20251005T090000
DTEND;TZID=America/Indiana/Indianapolis:20251005T100000
DTSTAMP:20260421T115021
CREATED:20250925T210131Z
LAST-MODIFIED:20250925T210131Z
UID:2226-1759654800-1759658400@www.crawfordsvillegunclub.org
SUMMARY:Board meeting
DESCRIPTION:
URL:https://www.crawfordsvillegunclub.org/event/board-meeting-57/
END:VEVENT
BEGIN:VEVENT
DTSTART;TZID=America/Indiana/Indianapolis:20251001T180000
DTEND;TZID=America/Indiana/Indianapolis:20251001T200000
DTSTAMP:20260421T115021
CREATED:20250823T155555Z
LAST-MODIFIED:20250823T161422Z
UID:2153-1759341600-1759348800@www.crawfordsvillegunclub.org
SUMMARY:Stock 10-22 shoot
DESCRIPTION:
URL:https://www.crawfordsvillegunclub.org/event/standard-10-22-shoot/
END:VEVENT
BEGIN:VEVENT
DTSTART;TZID=America/Indiana/Indianapolis:20250928T100000
DTEND;TZID=America/Indiana/Indianapolis:20250928T130000
DTSTAMP:20260421T115021
CREATED:20250802T133514Z
LAST-MODIFIED:20250802T133514Z
UID:2124-1759053600-1759064400@www.crawfordsvillegunclub.org
SUMMARY:Trap and 22 shoot
DESCRIPTION:
URL:https://www.crawfordsvillegunclub.org/event/trap-and-22-shoot-32/
END:VEVENT
BEGIN:VEVENT
DTSTART;TZID=America/Indiana/Indianapolis:20250924T180000
DTEND;TZID=America/Indiana/Indianapolis:20250924T200000
DTSTAMP:20260421T115021
CREATED:20250802T134008Z
LAST-MODIFIED:20250802T134008Z
UID:2132-1758736800-1758744000@www.crawfordsvillegunclub.org
SUMMARY:Stock 10-22 shoot
DESCRIPTION:
URL:https://www.crawfordsvillegunclub.org/event/stock-10-22-shoot-13/
END:VEVENT
BEGIN:VEVENT
DTSTART;TZID=America/Indiana/Indianapolis:20250921T110000
DTEND;TZID=America/Indiana/Indianapolis:20250921T140000
DTSTAMP:20260421T115021
CREATED:20250802T133111Z
LAST-MODIFIED:20250907T211945Z
UID:2116-1758452400-1758463200@www.crawfordsvillegunclub.org
SUMMARY:Member meeting and elections. Chili to be served.
DESCRIPTION:
URL:https://www.crawfordsvillegunclub.org/event/member-meeting-and-elections/
END:VEVENT
BEGIN:VEVENT
DTSTART;TZID=America/Indiana/Indianapolis:20250917T180000
DTEND;TZID=America/Indiana/Indianapolis:20250917T200000
DTSTAMP:20260421T115021
CREATED:20250802T133918Z
LAST-MODIFIED:20250802T133918Z
UID:2130-1758132000-1758139200@www.crawfordsvillegunclub.org
SUMMARY:Stock 10-22 shoot
DESCRIPTION:
URL:https://www.crawfordsvillegunclub.org/event/stock-10-22-shoot-12/
END:VEVENT
BEGIN:VEVENT
DTSTART;TZID=America/Indiana/Indianapolis:20250914T100000
DTEND;TZID=America/Indiana/Indianapolis:20250914T130000
DTSTAMP:20260421T115021
CREATED:20250802T133430Z
LAST-MODIFIED:20250802T133430Z
UID:2122-1757844000-1757854800@www.crawfordsvillegunclub.org
SUMMARY:Trap and 22 shoot
DESCRIPTION:
URL:https://www.crawfordsvillegunclub.org/event/trap-and-22-shoot-31/
END:VEVENT
END:VCALENDAR