BEGIN:VCALENDAR
VERSION:2.0
PRODID:-//Crawfordsville Gun Club - ECPv6.15.20//NONSGML v1.0//EN
CALSCALE:GREGORIAN
METHOD:PUBLISH
X-WR-CALNAME:Crawfordsville Gun Club
X-ORIGINAL-URL:https://www.crawfordsvillegunclub.org
X-WR-CALDESC:Events for Crawfordsville Gun Club
REFRESH-INTERVAL;VALUE=DURATION:PT1H
X-Robots-Tag:noindex
X-PUBLISHED-TTL:PT1H
BEGIN:VTIMEZONE
TZID:America/Indiana/Indianapolis
BEGIN:DAYLIGHT
TZOFFSETFROM:-0500
TZOFFSETTO:-0400
TZNAME:EDT
DTSTART:20230312T070000
END:DAYLIGHT
BEGIN:STANDARD
TZOFFSETFROM:-0400
TZOFFSETTO:-0500
TZNAME:EST
DTSTART:20231105T060000
END:STANDARD
BEGIN:DAYLIGHT
TZOFFSETFROM:-0500
TZOFFSETTO:-0400
TZNAME:EDT
DTSTART:20240310T070000
END:DAYLIGHT
BEGIN:STANDARD
TZOFFSETFROM:-0400
TZOFFSETTO:-0500
TZNAME:EST
DTSTART:20241103T060000
END:STANDARD
BEGIN:DAYLIGHT
TZOFFSETFROM:-0500
TZOFFSETTO:-0400
TZNAME:EDT
DTSTART:20250309T070000
END:DAYLIGHT
BEGIN:STANDARD
TZOFFSETFROM:-0400
TZOFFSETTO:-0500
TZNAME:EST
DTSTART:20251102T060000
END:STANDARD
END:VTIMEZONE
BEGIN:VEVENT
DTSTART;TZID=America/Indiana/Indianapolis:20240505T090000
DTEND;TZID=America/Indiana/Indianapolis:20240505T100000
DTSTAMP:20260422T124159
CREATED:20231205T220040Z
LAST-MODIFIED:20231205T220040Z
UID:1456-1714899600-1714903200@www.crawfordsvillegunclub.org
SUMMARY:Board meeting
DESCRIPTION:
URL:https://www.crawfordsvillegunclub.org/event/board-meeting-42/
END:VEVENT
BEGIN:VEVENT
DTSTART;TZID=America/Indiana/Indianapolis:20240502T180000
DTEND;TZID=America/Indiana/Indianapolis:20240502T200000
DTSTAMP:20260422T124159
CREATED:20240217T194933Z
LAST-MODIFIED:20240217T194933Z
UID:1527-1714672800-1714680000@www.crawfordsvillegunclub.org
SUMMARY:4H shooting 6-8pm
DESCRIPTION:
URL:https://www.crawfordsvillegunclub.org/event/4h-shooting-6-8pm-4/
END:VEVENT
BEGIN:VEVENT
DTSTART;TZID=America/Indiana/Indianapolis:20240428T100000
DTEND;TZID=America/Indiana/Indianapolis:20240428T130000
DTSTAMP:20260422T124159
CREATED:20240224T192516Z
LAST-MODIFIED:20240224T194738Z
UID:1550-1714298400-1714309200@www.crawfordsvillegunclub.org
SUMMARY:Trap shoot 10-12pm\, 22 shoot 11-1pm
DESCRIPTION:
URL:https://www.crawfordsvillegunclub.org/event/trap-shoot-10-12pm-22-shoot-11-1pm-5/
END:VEVENT
BEGIN:VEVENT
DTSTART;TZID=America/Indiana/Indianapolis:20240421T100000
DTEND;TZID=America/Indiana/Indianapolis:20240421T130000
DTSTAMP:20260422T124159
CREATED:20240224T192401Z
LAST-MODIFIED:20240224T192401Z
UID:1548-1713693600-1713704400@www.crawfordsvillegunclub.org
SUMMARY:Trap shoot 10-12pm\, 22 shoot 11-1pm
DESCRIPTION:
URL:https://www.crawfordsvillegunclub.org/event/trap-shoot-10-12pm-22-shoot-11-1pm-4/
END:VEVENT
BEGIN:VEVENT
DTSTART;TZID=America/Indiana/Indianapolis:20240418T180000
DTEND;TZID=America/Indiana/Indianapolis:20240418T200000
DTSTAMP:20260422T124159
CREATED:20240217T194810Z
LAST-MODIFIED:20240217T194810Z
UID:1525-1713463200-1713470400@www.crawfordsvillegunclub.org
SUMMARY:4H shooting 6-8pm
DESCRIPTION:
URL:https://www.crawfordsvillegunclub.org/event/4h-shooting-6-8pm-3/
END:VEVENT
BEGIN:VEVENT
DTSTART;TZID=America/Indiana/Indianapolis:20240414T100000
DTEND;TZID=America/Indiana/Indianapolis:20240414T130000
DTSTAMP:20260422T124159
CREATED:20240224T192259Z
LAST-MODIFIED:20240224T192259Z
UID:1546-1713088800-1713099600@www.crawfordsvillegunclub.org
SUMMARY:Trap shoot 10-12pm\, 22 shoot 11-1pm
DESCRIPTION:
URL:https://www.crawfordsvillegunclub.org/event/trap-shoot-10-12pm-22-shoot-11-1pm-3/
END:VEVENT
BEGIN:VEVENT
DTSTART;TZID=America/Indiana/Indianapolis:20240407T100000
DTEND;TZID=America/Indiana/Indianapolis:20240407T130000
DTSTAMP:20260422T124159
CREATED:20240224T191512Z
LAST-MODIFIED:20240224T191512Z
UID:1544-1712484000-1712494800@www.crawfordsvillegunclub.org
SUMMARY:Trap shoot 10-12pm\, 22 shoot 11-1pm
DESCRIPTION:
URL:https://www.crawfordsvillegunclub.org/event/trap-shoot-10-12pm-22-shoot-11-1pm/
END:VEVENT
BEGIN:VEVENT
DTSTART;TZID=America/Indiana/Indianapolis:20240407T090000
DTEND;TZID=America/Indiana/Indianapolis:20240407T100000
DTSTAMP:20260422T124159
CREATED:20231205T215931Z
LAST-MODIFIED:20231205T215931Z
UID:1454-1712480400-1712484000@www.crawfordsvillegunclub.org
SUMMARY:Board meeting
DESCRIPTION:
URL:https://www.crawfordsvillegunclub.org/event/board-meeting-41/
END:VEVENT
BEGIN:VEVENT
DTSTART;TZID=America/Indiana/Indianapolis:20240404T180000
DTEND;TZID=America/Indiana/Indianapolis:20240404T200000
DTSTAMP:20260422T124159
CREATED:20240217T194700Z
LAST-MODIFIED:20240217T194700Z
UID:1523-1712253600-1712260800@www.crawfordsvillegunclub.org
SUMMARY:4H shooting 6-8pm
DESCRIPTION:
URL:https://www.crawfordsvillegunclub.org/event/4h-shooting-6-8pm-2/
END:VEVENT
BEGIN:VEVENT
DTSTART;TZID=America/Indiana/Indianapolis:20240331T100000
DTEND;TZID=America/Indiana/Indianapolis:20240331T130000
DTSTAMP:20260422T124159
CREATED:20240215T195851Z
LAST-MODIFIED:20240215T195851Z
UID:1521-1711879200-1711890000@www.crawfordsvillegunclub.org
SUMMARY:Trap shoot 10-12pm\, 22 shoot 11-1pm\, weather permitting
DESCRIPTION:
URL:https://www.crawfordsvillegunclub.org/event/trap-shoot-10-12pm-22-shoot-11-1pm-weather-permitting-11/
END:VEVENT
BEGIN:VEVENT
DTSTART;VALUE=DATE:20240331
DTEND;VALUE=DATE:20240401
DTSTAMP:20260422T124159
CREATED:20231230T163023Z
LAST-MODIFIED:20231230T163023Z
UID:1484-1711843200-1711929599@www.crawfordsvillegunclub.org
SUMMARY:Easter Sunday
DESCRIPTION:
URL:https://www.crawfordsvillegunclub.org/event/easter-sunday-2/
END:VEVENT
BEGIN:VEVENT
DTSTART;TZID=America/Indiana/Indianapolis:20240324T100000
DTEND;TZID=America/Indiana/Indianapolis:20240324T130000
DTSTAMP:20260422T124159
CREATED:20231230T161410Z
LAST-MODIFIED:20231230T161410Z
UID:1482-1711274400-1711285200@www.crawfordsvillegunclub.org
SUMMARY:Trap shoot 10-12pm\, 22 shoot 11-1pm\, weather permitting
DESCRIPTION:
URL:https://www.crawfordsvillegunclub.org/event/trap-shoot-10-12pm-22-shoot-11-1pm-weather-permitting-7/
END:VEVENT
BEGIN:VEVENT
DTSTART;TZID=America/Indiana/Indianapolis:20240321T180000
DTEND;TZID=America/Indiana/Indianapolis:20240321T200000
DTSTAMP:20260422T124159
CREATED:20231230T182739Z
LAST-MODIFIED:20231230T182739Z
UID:1498-1711044000-1711051200@www.crawfordsvillegunclub.org
SUMMARY:4H shooting
DESCRIPTION:
URL:https://www.crawfordsvillegunclub.org/event/4h-shooting/
END:VEVENT
BEGIN:VEVENT
DTSTART;TZID=America/Indiana/Indianapolis:20240317T100000
DTEND;TZID=America/Indiana/Indianapolis:20240317T130000
DTSTAMP:20260422T124159
CREATED:20231230T161256Z
LAST-MODIFIED:20231230T161256Z
UID:1480-1710669600-1710680400@www.crawfordsvillegunclub.org
SUMMARY:Trap shoot 10-11pm\, 22 shoot 11-1pm weather permitting
DESCRIPTION:
URL:https://www.crawfordsvillegunclub.org/event/trap-shoot-10-11pm-22-shoot-11-1pm-weather-permitting-2/
END:VEVENT
BEGIN:VEVENT
DTSTART;TZID=America/Indiana/Indianapolis:20240310T100000
DTEND;TZID=America/Indiana/Indianapolis:20240310T130000
DTSTAMP:20260422T124159
CREATED:20231230T163231Z
LAST-MODIFIED:20231230T163231Z
UID:1486-1710064800-1710075600@www.crawfordsvillegunclub.org
SUMMARY:Trap shoot 10-12pm\, 22 shoot 11-1pm weather permitting
DESCRIPTION:
URL:https://www.crawfordsvillegunclub.org/event/trap-shoot-10-12pm-22-shoot-11-1pm-weather-permitting-8/
END:VEVENT
BEGIN:VEVENT
DTSTART;TZID=America/Indiana/Indianapolis:20240310T020000
DTEND;TZID=America/Indiana/Indianapolis:20240310T020000
DTSTAMP:20260422T124159
CREATED:20231205T215832Z
LAST-MODIFIED:20231205T215832Z
UID:1452-1710036000-1710036000@www.crawfordsvillegunclub.org
SUMMARY:DST - Spring ahead 1 hour
DESCRIPTION:
URL:https://www.crawfordsvillegunclub.org/event/dst-spring-ahead-1-hour/
END:VEVENT
BEGIN:VEVENT
DTSTART;TZID=America/Indiana/Indianapolis:20240307T180000
DTEND;TZID=America/Indiana/Indianapolis:20240307T200000
DTSTAMP:20260422T124159
CREATED:20231230T182645Z
LAST-MODIFIED:20231230T182645Z
UID:1496-1709834400-1709841600@www.crawfordsvillegunclub.org
SUMMARY:4H shooting 6-8pm
DESCRIPTION:
URL:https://www.crawfordsvillegunclub.org/event/4h-shooting-6-8pm/
END:VEVENT
BEGIN:VEVENT
DTSTART;TZID=America/Indiana/Indianapolis:20240303T100000
DTEND;TZID=America/Indiana/Indianapolis:20240303T130000
DTSTAMP:20260422T124159
CREATED:20231230T165939Z
LAST-MODIFIED:20231230T165939Z
UID:1494-1709460000-1709470800@www.crawfordsvillegunclub.org
SUMMARY:Trap shoot 10-12pm\, 22 shoot 11-1pm weather permitting
DESCRIPTION:
URL:https://www.crawfordsvillegunclub.org/event/trap-shoot-10-12pm-22-shoot-11-1pm-weather-permitting-10/
END:VEVENT
BEGIN:VEVENT
DTSTART;TZID=America/Indiana/Indianapolis:20240303T090000
DTEND;TZID=America/Indiana/Indianapolis:20240303T100000
DTSTAMP:20260422T124159
CREATED:20231230T160817Z
LAST-MODIFIED:20231230T160817Z
UID:1476-1709456400-1709460000@www.crawfordsvillegunclub.org
SUMMARY:Board meeting 9-10 am
DESCRIPTION:
URL:https://www.crawfordsvillegunclub.org/event/board-meeting-9-10-am/
END:VEVENT
BEGIN:VEVENT
DTSTART;TZID=America/Indiana/Indianapolis:20240225T100000
DTEND;TZID=America/Indiana/Indianapolis:20240225T130000
DTSTAMP:20260422T124159
CREATED:20231210T011123Z
LAST-MODIFIED:20231210T011123Z
UID:1469-1708855200-1708866000@www.crawfordsvillegunclub.org
SUMMARY:Trap shooting 10-12pm\, 22 shoot 11-1pm weather permitting
DESCRIPTION:
URL:https://www.crawfordsvillegunclub.org/event/trap-shooting-10-12pm-22-shoot-11-1pm-weather-permitting/
END:VEVENT
BEGIN:VEVENT
DTSTART;TZID=America/Indiana/Indianapolis:20240218T100000
DTEND;TZID=America/Indiana/Indianapolis:20240218T130000
DTSTAMP:20260422T124159
CREATED:20231210T011011Z
LAST-MODIFIED:20231210T011011Z
UID:1467-1708250400-1708261200@www.crawfordsvillegunclub.org
SUMMARY:Trap shoot 10-12pm\, 22 shoot 11-1pm weather permitting
DESCRIPTION:
URL:https://www.crawfordsvillegunclub.org/event/trap-shoot-10-12pm-22-shoot-11-1pm-weather-permitting-5/
END:VEVENT
BEGIN:VEVENT
DTSTART;TZID=America/Indiana/Indianapolis:20240211T100000
DTEND;TZID=America/Indiana/Indianapolis:20240211T130000
DTSTAMP:20260422T124159
CREATED:20231210T010851Z
LAST-MODIFIED:20231210T010851Z
UID:1465-1707645600-1707656400@www.crawfordsvillegunclub.org
SUMMARY:Trap shoot 10-11pm\, 22 shoot 11-1pm weather permitting
DESCRIPTION:
URL:https://www.crawfordsvillegunclub.org/event/trap-shoot-10-11pm-22-shoot-11-1pm-weather-permitting/
END:VEVENT
BEGIN:VEVENT
DTSTART;TZID=America/Indiana/Indianapolis:20240204T100000
DTEND;TZID=America/Indiana/Indianapolis:20240204T130000
DTSTAMP:20260422T124159
CREATED:20231210T010735Z
LAST-MODIFIED:20231210T010735Z
UID:1463-1707040800-1707051600@www.crawfordsvillegunclub.org
SUMMARY:Trap shoot 10-12pm\, 22 shoot 11-1pm weather permitting
DESCRIPTION:
URL:https://www.crawfordsvillegunclub.org/event/trap-shoot-10-12pm-22-shoot-11-1pm-weather-permitting-4/
END:VEVENT
BEGIN:VEVENT
DTSTART;TZID=America/Indiana/Indianapolis:20240204T090000
DTEND;TZID=America/Indiana/Indianapolis:20240204T100000
DTSTAMP:20260422T124159
CREATED:20231205T215547Z
LAST-MODIFIED:20231205T215547Z
UID:1448-1707037200-1707040800@www.crawfordsvillegunclub.org
SUMMARY:Board meeting
DESCRIPTION:
URL:https://www.crawfordsvillegunclub.org/event/board-meeting-39/
END:VEVENT
BEGIN:VEVENT
DTSTART;TZID=America/Indiana/Indianapolis:20240128T100000
DTEND;TZID=America/Indiana/Indianapolis:20240128T130000
DTSTAMP:20260422T124159
CREATED:20231123T142218Z
LAST-MODIFIED:20231123T142218Z
UID:1431-1706436000-1706446800@www.crawfordsvillegunclub.org
SUMMARY:Trap shoot 10-12pm\, 22 shoot 11-1pm Weather permitting
DESCRIPTION:
URL:https://www.crawfordsvillegunclub.org/event/trap-shoot-10-12pm-22-shoot-11-1pm-weather-permitting-3/
END:VEVENT
BEGIN:VEVENT
DTSTART;TZID=America/Indiana/Indianapolis:20240121T100000
DTEND;TZID=America/Indiana/Indianapolis:20240121T130000
DTSTAMP:20260422T124159
CREATED:20231123T142101Z
LAST-MODIFIED:20231123T142101Z
UID:1429-1705831200-1705842000@www.crawfordsvillegunclub.org
SUMMARY:Trap shoot 10-12pm\, 22 shoot 11-1pm Weather permitting
DESCRIPTION:
URL:https://www.crawfordsvillegunclub.org/event/trap-shoot-10-12pm-22-shoot-11-1pm-weather-permitting-2/
END:VEVENT
BEGIN:VEVENT
DTSTART;TZID=America/Indiana/Indianapolis:20240114T100000
DTEND;TZID=America/Indiana/Indianapolis:20240114T130000
DTSTAMP:20260422T124159
CREATED:20231230T165114Z
LAST-MODIFIED:20231230T165114Z
UID:1492-1705226400-1705237200@www.crawfordsvillegunclub.org
SUMMARY:Trap shoot 10-12pm\, 22 shoot 11-1pm weather permitting
DESCRIPTION:
URL:https://www.crawfordsvillegunclub.org/event/trap-shoot-10-12pm-22-shoot-11-1pm-weather-permitting-9/
END:VEVENT
BEGIN:VEVENT
DTSTART;TZID=America/Indiana/Indianapolis:20240114T100000
DTEND;TZID=America/Indiana/Indianapolis:20240114T130000
DTSTAMP:20260422T124159
CREATED:20231201T153607Z
LAST-MODIFIED:20231201T153607Z
UID:1441-1705226400-1705237200@www.crawfordsvillegunclub.org
SUMMARY:On the shooting events-weather permitting
DESCRIPTION:
URL:https://www.crawfordsvillegunclub.org/event/on-the-shooting-events-weather-permitting-2/
END:VEVENT
BEGIN:VEVENT
DTSTART;TZID=America/Indiana/Indianapolis:20240107T100000
DTEND;TZID=America/Indiana/Indianapolis:20240107T130000
DTSTAMP:20260422T124159
CREATED:20231201T153442Z
LAST-MODIFIED:20231201T153442Z
UID:1439-1704621600-1704632400@www.crawfordsvillegunclub.org
SUMMARY:On the shooting events-weather permitting
DESCRIPTION:
URL:https://www.crawfordsvillegunclub.org/event/on-the-shooting-events-weather-permitting/
END:VEVENT
BEGIN:VEVENT
DTSTART;TZID=America/Indiana/Indianapolis:20240107T100000
DTEND;TZID=America/Indiana/Indianapolis:20240107T130000
DTSTAMP:20260422T124159
CREATED:20231123T140542Z
LAST-MODIFIED:20231123T140542Z
UID:1427-1704621600-1704632400@www.crawfordsvillegunclub.org
SUMMARY:Trap shoot 10-12pm\, 22 shoot 11-1pm
DESCRIPTION:
URL:https://www.crawfordsvillegunclub.org/event/trap-shoot-10-12pm-22-shoot-11-1pm-2/
END:VEVENT
END:VCALENDAR