BEGIN:VCALENDAR
VERSION:2.0
PRODID:-//Crawfordsville Gun Club - ECPv6.15.20//NONSGML v1.0//EN
CALSCALE:GREGORIAN
METHOD:PUBLISH
X-WR-CALNAME:Crawfordsville Gun Club
X-ORIGINAL-URL:https://www.crawfordsvillegunclub.org
X-WR-CALDESC:Events for Crawfordsville Gun Club
REFRESH-INTERVAL;VALUE=DURATION:PT1H
X-Robots-Tag:noindex
X-PUBLISHED-TTL:PT1H
BEGIN:VTIMEZONE
TZID:America/Indiana/Indianapolis
BEGIN:DAYLIGHT
TZOFFSETFROM:-0500
TZOFFSETTO:-0400
TZNAME:EDT
DTSTART:20220313T070000
END:DAYLIGHT
BEGIN:STANDARD
TZOFFSETFROM:-0400
TZOFFSETTO:-0500
TZNAME:EST
DTSTART:20221106T060000
END:STANDARD
BEGIN:DAYLIGHT
TZOFFSETFROM:-0500
TZOFFSETTO:-0400
TZNAME:EDT
DTSTART:20230312T070000
END:DAYLIGHT
BEGIN:STANDARD
TZOFFSETFROM:-0400
TZOFFSETTO:-0500
TZNAME:EST
DTSTART:20231105T060000
END:STANDARD
BEGIN:DAYLIGHT
TZOFFSETFROM:-0500
TZOFFSETTO:-0400
TZNAME:EDT
DTSTART:20240310T070000
END:DAYLIGHT
BEGIN:STANDARD
TZOFFSETFROM:-0400
TZOFFSETTO:-0500
TZNAME:EST
DTSTART:20241103T060000
END:STANDARD
END:VTIMEZONE
BEGIN:VEVENT
DTSTART;TZID=America/Indiana/Indianapolis:20230917T130000
DTEND;TZID=America/Indiana/Indianapolis:20230917T140000
DTSTAMP:20260422T221853
CREATED:20230730T203556Z
LAST-MODIFIED:20230730T203556Z
UID:1249-1694955600-1694959200@www.crawfordsvillegunclub.org
SUMMARY:Trap shoot 1pm-3pm
DESCRIPTION:
URL:https://www.crawfordsvillegunclub.org/event/trap-shoot-1pm-3pm/
END:VEVENT
BEGIN:VEVENT
DTSTART;TZID=America/Indiana/Indianapolis:20230917T110000
DTEND;TZID=America/Indiana/Indianapolis:20230917T120000
DTSTAMP:20260422T221853
CREATED:20221112T200618Z
LAST-MODIFIED:20230811T203039Z
UID:965-1694948400-1694952000@www.crawfordsvillegunclub.org
SUMMARY:Club Member Meeting and Officer Elections
DESCRIPTION:A Taurus 856 38 Special revolver will be offered as a door a prize. A $5 donation is welcome. Lunch after meeting
URL:https://www.crawfordsvillegunclub.org/event/club-member-meeting-and-officer-elections/
END:VEVENT
BEGIN:VEVENT
DTSTART;VALUE=DATE:20230911
DTEND;VALUE=DATE:20230912
DTSTAMP:20260422T221853
CREATED:20221112T200416Z
LAST-MODIFIED:20221112T200416Z
UID:963-1694390400-1694476799@www.crawfordsvillegunclub.org
SUMMARY:Patriot Day
DESCRIPTION:
URL:https://www.crawfordsvillegunclub.org/event/patriot-day/
END:VEVENT
BEGIN:VEVENT
DTSTART;TZID=America/Indiana/Indianapolis:20230910T110000
DTEND;TZID=America/Indiana/Indianapolis:20230910T130000
DTSTAMP:20260422T221853
CREATED:20230730T203314Z
LAST-MODIFIED:20230730T203314Z
UID:1247-1694343600-1694350800@www.crawfordsvillegunclub.org
SUMMARY:22 shoot 11am-1pm
DESCRIPTION:
URL:https://www.crawfordsvillegunclub.org/event/22-shoot-11am-1pm-2/
END:VEVENT
BEGIN:VEVENT
DTSTART;TZID=America/Indiana/Indianapolis:20230910T100000
DTEND;TZID=America/Indiana/Indianapolis:20230910T120000
DTSTAMP:20260422T221853
CREATED:20230730T203221Z
LAST-MODIFIED:20230730T203221Z
UID:1245-1694340000-1694347200@www.crawfordsvillegunclub.org
SUMMARY:Trap shoot 10am-12pm
DESCRIPTION:
URL:https://www.crawfordsvillegunclub.org/event/trap-shoot-10am-12pm-2/
END:VEVENT
BEGIN:VEVENT
DTSTART;TZID=America/Indiana/Indianapolis:20230910T090000
DTEND;TZID=America/Indiana/Indianapolis:20230910T100000
DTSTAMP:20260422T221853
CREATED:20221112T195919Z
LAST-MODIFIED:20221112T195919Z
UID:959-1694336400-1694340000@www.crawfordsvillegunclub.org
SUMMARY:Board Meeting
DESCRIPTION:
URL:https://www.crawfordsvillegunclub.org/event/board-meeting-33/
END:VEVENT
BEGIN:VEVENT
DTSTART;TZID=America/Indiana/Indianapolis:20230909T090000
DTEND;TZID=America/Indiana/Indianapolis:20230909T170000
DTSTAMP:20260422T221853
CREATED:20230807T152550Z
LAST-MODIFIED:20230807T152550Z
UID:1262-1694250000-1694278800@www.crawfordsvillegunclub.org
SUMMARY:Handgun class-Mark Townsend
DESCRIPTION:Contact Mark at 765-418-2248 or mark@freedomfocusllc.com
URL:https://www.crawfordsvillegunclub.org/event/handgun-class-mark-townsend/
END:VEVENT
BEGIN:VEVENT
DTSTART;VALUE=DATE:20230904
DTEND;VALUE=DATE:20230905
DTSTAMP:20260422T221853
CREATED:20221112T200323Z
LAST-MODIFIED:20221112T200323Z
UID:961-1693785600-1693871999@www.crawfordsvillegunclub.org
SUMMARY:Labor Day-Have fun not working!
DESCRIPTION:
URL:https://www.crawfordsvillegunclub.org/event/labor-day-have-fun-not-working/
END:VEVENT
BEGIN:VEVENT
DTSTART;TZID=America/Indiana/Indianapolis:20230903T110000
DTEND;TZID=America/Indiana/Indianapolis:20230903T130000
DTSTAMP:20260422T221853
CREATED:20230730T203059Z
LAST-MODIFIED:20230730T203059Z
UID:1243-1693738800-1693746000@www.crawfordsvillegunclub.org
SUMMARY:22 shoot 11am-1pm
DESCRIPTION:
URL:https://www.crawfordsvillegunclub.org/event/22-shoot-11am-1pm/
END:VEVENT
BEGIN:VEVENT
DTSTART;TZID=America/Indiana/Indianapolis:20230903T100000
DTEND;TZID=America/Indiana/Indianapolis:20230903T120000
DTSTAMP:20260422T221853
CREATED:20230730T202906Z
LAST-MODIFIED:20230730T202906Z
UID:1241-1693735200-1693742400@www.crawfordsvillegunclub.org
SUMMARY:Trap shoot 10am-12pm
DESCRIPTION:
URL:https://www.crawfordsvillegunclub.org/event/trap-shoot-10am-12pm/
END:VEVENT
BEGIN:VEVENT
DTSTART;TZID=America/Indiana/Indianapolis:20230827T110000
DTEND;TZID=America/Indiana/Indianapolis:20230827T130000
DTSTAMP:20260422T221853
CREATED:20230702T210413Z
LAST-MODIFIED:20230702T210413Z
UID:1225-1693134000-1693141200@www.crawfordsvillegunclub.org
SUMMARY:22 shoot 11 am - 1 pm
DESCRIPTION:
URL:https://www.crawfordsvillegunclub.org/event/22-shoot-11-am-1-pm-8/
END:VEVENT
BEGIN:VEVENT
DTSTART;TZID=America/Indiana/Indianapolis:20230827T100000
DTEND;TZID=America/Indiana/Indianapolis:20230827T120000
DTSTAMP:20260422T221853
CREATED:20230609T144031Z
LAST-MODIFIED:20230609T144031Z
UID:1199-1693130400-1693137600@www.crawfordsvillegunclub.org
SUMMARY:Trap Shoot
DESCRIPTION:22 shoot to follow
URL:https://www.crawfordsvillegunclub.org/event/trap-shoot-87/
END:VEVENT
BEGIN:VEVENT
DTSTART;TZID=America/Indiana/Indianapolis:20230820T110000
DTEND;TZID=America/Indiana/Indianapolis:20230820T130000
DTSTAMP:20260422T221853
CREATED:20230702T210310Z
LAST-MODIFIED:20230702T210310Z
UID:1223-1692529200-1692536400@www.crawfordsvillegunclub.org
SUMMARY:22 shoot 11 am - 1 pm
DESCRIPTION:
URL:https://www.crawfordsvillegunclub.org/event/22-shoot-11-am-1-pm-7/
END:VEVENT
BEGIN:VEVENT
DTSTART;TZID=America/Indiana/Indianapolis:20230820T100000
DTEND;TZID=America/Indiana/Indianapolis:20230820T120000
DTSTAMP:20260422T221853
CREATED:20230609T143943Z
LAST-MODIFIED:20230609T143943Z
UID:1197-1692525600-1692532800@www.crawfordsvillegunclub.org
SUMMARY:Trap Shoot
DESCRIPTION:22 shoot to follow
URL:https://www.crawfordsvillegunclub.org/event/trap-shoot-86/
END:VEVENT
BEGIN:VEVENT
DTSTART;TZID=America/Indiana/Indianapolis:20230813T110000
DTEND;TZID=America/Indiana/Indianapolis:20230813T130000
DTSTAMP:20260422T221853
CREATED:20230702T210159Z
LAST-MODIFIED:20230702T210159Z
UID:1221-1691924400-1691931600@www.crawfordsvillegunclub.org
SUMMARY:22 shoot 11 am - 1 pm
DESCRIPTION:
URL:https://www.crawfordsvillegunclub.org/event/22-shoot-11-am-1-pm-6/
END:VEVENT
BEGIN:VEVENT
DTSTART;TZID=America/Indiana/Indianapolis:20230813T100000
DTEND;TZID=America/Indiana/Indianapolis:20230813T120000
DTSTAMP:20260422T221853
CREATED:20230609T143831Z
LAST-MODIFIED:20230609T143831Z
UID:1195-1691920800-1691928000@www.crawfordsvillegunclub.org
SUMMARY:Trap Shoot
DESCRIPTION:22 shoot to follow
URL:https://www.crawfordsvillegunclub.org/event/trap-shoot-85/
END:VEVENT
BEGIN:VEVENT
DTSTART;TZID=America/Indiana/Indianapolis:20230806T110000
DTEND;TZID=America/Indiana/Indianapolis:20230806T130000
DTSTAMP:20260422T221853
CREATED:20230702T210052Z
LAST-MODIFIED:20230702T210052Z
UID:1219-1691319600-1691326800@www.crawfordsvillegunclub.org
SUMMARY:22 shoot 11 am - 1 pm
DESCRIPTION:
URL:https://www.crawfordsvillegunclub.org/event/22-shoot-11-am-1-pm-5/
END:VEVENT
BEGIN:VEVENT
DTSTART;TZID=America/Indiana/Indianapolis:20230806T100000
DTEND;TZID=America/Indiana/Indianapolis:20230806T120000
DTSTAMP:20260422T221853
CREATED:20230609T143702Z
LAST-MODIFIED:20230609T143702Z
UID:1193-1691316000-1691323200@www.crawfordsvillegunclub.org
SUMMARY:Trap Shoot
DESCRIPTION:22 shoot to follow
URL:https://www.crawfordsvillegunclub.org/event/trap-shoot-84/
END:VEVENT
BEGIN:VEVENT
DTSTART;TZID=America/Indiana/Indianapolis:20230806T090000
DTEND;TZID=America/Indiana/Indianapolis:20230806T100000
DTSTAMP:20260422T221853
CREATED:20221112T195705Z
LAST-MODIFIED:20221112T195705Z
UID:957-1691312400-1691316000@www.crawfordsvillegunclub.org
SUMMARY:Board Meeting
DESCRIPTION:
URL:https://www.crawfordsvillegunclub.org/event/board-meeting-32/
END:VEVENT
BEGIN:VEVENT
DTSTART;TZID=America/Indiana/Indianapolis:20230730T110000
DTEND;TZID=America/Indiana/Indianapolis:20230730T130000
DTSTAMP:20260422T221853
CREATED:20230702T205933Z
LAST-MODIFIED:20230702T205933Z
UID:1217-1690714800-1690722000@www.crawfordsvillegunclub.org
SUMMARY:22 shoot 11 am - 1 pm
DESCRIPTION:
URL:https://www.crawfordsvillegunclub.org/event/22-shoot-11-am-1-pm-4/
END:VEVENT
BEGIN:VEVENT
DTSTART;TZID=America/Indiana/Indianapolis:20230730T100000
DTEND;TZID=America/Indiana/Indianapolis:20230730T120000
DTSTAMP:20260422T221853
CREATED:20230524T150736Z
LAST-MODIFIED:20230524T150736Z
UID:1178-1690711200-1690718400@www.crawfordsvillegunclub.org
SUMMARY:Trap shoot
DESCRIPTION:22 shoot to follow
URL:https://www.crawfordsvillegunclub.org/event/trap-shoot-83/
END:VEVENT
BEGIN:VEVENT
DTSTART;TZID=America/Indiana/Indianapolis:20230723T110000
DTEND;TZID=America/Indiana/Indianapolis:20230723T130000
DTSTAMP:20260422T221853
CREATED:20230702T205835Z
LAST-MODIFIED:20230702T205835Z
UID:1215-1690110000-1690117200@www.crawfordsvillegunclub.org
SUMMARY:22 shoot 11 am - 1 pm
DESCRIPTION:
URL:https://www.crawfordsvillegunclub.org/event/22-shoot-11-am-1-pm-3/
END:VEVENT
BEGIN:VEVENT
DTSTART;TZID=America/Indiana/Indianapolis:20230723T100000
DTEND;TZID=America/Indiana/Indianapolis:20230723T120000
DTSTAMP:20260422T221853
CREATED:20230524T150555Z
LAST-MODIFIED:20230524T150555Z
UID:1176-1690106400-1690113600@www.crawfordsvillegunclub.org
SUMMARY:Trap shoot
DESCRIPTION:22 shoot to follow
URL:https://www.crawfordsvillegunclub.org/event/trap-shoot-82/
END:VEVENT
BEGIN:VEVENT
DTSTART;TZID=America/Indiana/Indianapolis:20230716T110000
DTEND;TZID=America/Indiana/Indianapolis:20230716T130000
DTSTAMP:20260422T221853
CREATED:20230702T205738Z
LAST-MODIFIED:20230702T205738Z
UID:1213-1689505200-1689512400@www.crawfordsvillegunclub.org
SUMMARY:22 shoot 11 am - 1 pm
DESCRIPTION:
URL:https://www.crawfordsvillegunclub.org/event/22-shoot-11-am-1-pm-2/
END:VEVENT
BEGIN:VEVENT
DTSTART;TZID=America/Indiana/Indianapolis:20230716T100000
DTEND;TZID=America/Indiana/Indianapolis:20230716T120000
DTSTAMP:20260422T221853
CREATED:20230524T150502Z
LAST-MODIFIED:20230524T150502Z
UID:1174-1689501600-1689508800@www.crawfordsvillegunclub.org
SUMMARY:Trap shoot
DESCRIPTION:22 shoot to follow
URL:https://www.crawfordsvillegunclub.org/event/trap-shoot-81/
END:VEVENT
BEGIN:VEVENT
DTSTART;TZID=America/Indiana/Indianapolis:20230709T110000
DTEND;TZID=America/Indiana/Indianapolis:20230709T130000
DTSTAMP:20260422T221853
CREATED:20230702T205637Z
LAST-MODIFIED:20230702T205637Z
UID:1211-1688900400-1688907600@www.crawfordsvillegunclub.org
SUMMARY:22 shoot 11 am - 1 pm
DESCRIPTION:
URL:https://www.crawfordsvillegunclub.org/event/22-shoot-11-am-1-pm/
END:VEVENT
BEGIN:VEVENT
DTSTART;TZID=America/Indiana/Indianapolis:20230709T100000
DTEND;TZID=America/Indiana/Indianapolis:20230709T120000
DTSTAMP:20260422T221853
CREATED:20230524T150403Z
LAST-MODIFIED:20230524T150403Z
UID:1172-1688896800-1688904000@www.crawfordsvillegunclub.org
SUMMARY:Trap shoot
DESCRIPTION:22 shoot to follow
URL:https://www.crawfordsvillegunclub.org/event/trap-shoot-80/
END:VEVENT
BEGIN:VEVENT
DTSTART;VALUE=DATE:20230704
DTEND;VALUE=DATE:20230705
DTSTAMP:20260422T221853
CREATED:20230524T151035Z
LAST-MODIFIED:20230524T151035Z
UID:1180-1688428800-1688515199@www.crawfordsvillegunclub.org
SUMMARY:4th of July!
DESCRIPTION:Go to a parade and fire works!
URL:https://www.crawfordsvillegunclub.org/event/4th-of-july/
END:VEVENT
BEGIN:VEVENT
DTSTART;TZID=America/Indiana/Indianapolis:20230702T100000
DTEND;TZID=America/Indiana/Indianapolis:20230702T120000
DTSTAMP:20260422T221853
CREATED:20230524T150157Z
LAST-MODIFIED:20230524T150157Z
UID:1170-1688292000-1688299200@www.crawfordsvillegunclub.org
SUMMARY:Trap shoot
DESCRIPTION:22 shoot to follow
URL:https://www.crawfordsvillegunclub.org/event/trap-shoot-79/
END:VEVENT
BEGIN:VEVENT
DTSTART;TZID=America/Indiana/Indianapolis:20230702T090000
DTEND;TZID=America/Indiana/Indianapolis:20230702T100000
DTSTAMP:20260422T221853
CREATED:20221112T195612Z
LAST-MODIFIED:20221112T195612Z
UID:955-1688288400-1688292000@www.crawfordsvillegunclub.org
SUMMARY:Board Meeting
DESCRIPTION:
URL:https://www.crawfordsvillegunclub.org/event/board-meeting-31/
END:VEVENT
END:VCALENDAR