BEGIN:VCALENDAR
VERSION:2.0
PRODID:-//Crawfordsville Gun Club - ECPv6.15.20//NONSGML v1.0//EN
CALSCALE:GREGORIAN
METHOD:PUBLISH
X-ORIGINAL-URL:https://www.crawfordsvillegunclub.org
X-WR-CALDESC:Events for Crawfordsville Gun Club
REFRESH-INTERVAL;VALUE=DURATION:PT1H
X-Robots-Tag:noindex
X-PUBLISHED-TTL:PT1H
BEGIN:VTIMEZONE
TZID:America/Indiana/Indianapolis
BEGIN:DAYLIGHT
TZOFFSETFROM:-0500
TZOFFSETTO:-0400
TZNAME:EDT
DTSTART:20250309T070000
END:DAYLIGHT
BEGIN:STANDARD
TZOFFSETFROM:-0400
TZOFFSETTO:-0500
TZNAME:EST
DTSTART:20251102T060000
END:STANDARD
BEGIN:DAYLIGHT
TZOFFSETFROM:-0500
TZOFFSETTO:-0400
TZNAME:EDT
DTSTART:20260308T070000
END:DAYLIGHT
BEGIN:STANDARD
TZOFFSETFROM:-0400
TZOFFSETTO:-0500
TZNAME:EST
DTSTART:20261101T060000
END:STANDARD
BEGIN:DAYLIGHT
TZOFFSETFROM:-0500
TZOFFSETTO:-0400
TZNAME:EDT
DTSTART:20270314T070000
END:DAYLIGHT
BEGIN:STANDARD
TZOFFSETFROM:-0400
TZOFFSETTO:-0500
TZNAME:EST
DTSTART:20271107T060000
END:STANDARD
END:VTIMEZONE
BEGIN:VEVENT
DTSTART;TZID=America/Indiana/Indianapolis:20260426T100000
DTEND;TZID=America/Indiana/Indianapolis:20260426T130000
DTSTAMP:20260421T114329
CREATED:20260301T172247Z
LAST-MODIFIED:20260301T172247Z
UID:2400-1777197600-1777208400@www.crawfordsvillegunclub.org
SUMMARY:Trap and 22 shoot\, weather permitting
DESCRIPTION:
URL:https://www.crawfordsvillegunclub.org/event/trap-and-22-shoot-weather-permitting-7/
END:VEVENT
BEGIN:VEVENT
DTSTART;TZID=America/Indiana/Indianapolis:20260503T090000
DTEND;TZID=America/Indiana/Indianapolis:20260503T100000
DTSTAMP:20260421T114329
CREATED:20251207T172354Z
LAST-MODIFIED:20251207T172354Z
UID:2345-1777798800-1777802400@www.crawfordsvillegunclub.org
SUMMARY:Board meeting
DESCRIPTION:
URL:https://www.crawfordsvillegunclub.org/event/board-meeting-64/
END:VEVENT
BEGIN:VEVENT
DTSTART;TZID=America/Indiana/Indianapolis:20260503T100000
DTEND;TZID=America/Indiana/Indianapolis:20260503T130000
DTSTAMP:20260421T114329
CREATED:20260407T221335Z
LAST-MODIFIED:20260407T221335Z
UID:2428-1777802400-1777813200@www.crawfordsvillegunclub.org
SUMMARY:Trap and 22 shoots
DESCRIPTION:
URL:https://www.crawfordsvillegunclub.org/event/trap-and-22-shoots/
END:VEVENT
BEGIN:VEVENT
DTSTART;TZID=America/Indiana/Indianapolis:20260510T100000
DTEND;TZID=America/Indiana/Indianapolis:20260510T130000
DTSTAMP:20260421T114329
CREATED:20260407T221448Z
LAST-MODIFIED:20260407T221448Z
UID:2430-1778407200-1778418000@www.crawfordsvillegunclub.org
SUMMARY:Trap and 22 shoots
DESCRIPTION:
URL:https://www.crawfordsvillegunclub.org/event/trap-and-22-shoots-2/
END:VEVENT
BEGIN:VEVENT
DTSTART;TZID=America/Indiana/Indianapolis:20260517T100000
DTEND;TZID=America/Indiana/Indianapolis:20260517T130000
DTSTAMP:20260421T114329
CREATED:20260407T221523Z
LAST-MODIFIED:20260407T221523Z
UID:2432-1779012000-1779022800@www.crawfordsvillegunclub.org
SUMMARY:Trap and 22 shoots
DESCRIPTION:
URL:https://www.crawfordsvillegunclub.org/event/trap-and-22-shoots-3/
END:VEVENT
BEGIN:VEVENT
DTSTART;TZID=America/Indiana/Indianapolis:20260524T100000
DTEND;TZID=America/Indiana/Indianapolis:20260524T130000
DTSTAMP:20260421T114329
CREATED:20260407T221559Z
LAST-MODIFIED:20260407T221559Z
UID:2434-1779616800-1779627600@www.crawfordsvillegunclub.org
SUMMARY:Trap and 22 shoots
DESCRIPTION:
URL:https://www.crawfordsvillegunclub.org/event/trap-and-22-shoots-4/
END:VEVENT
BEGIN:VEVENT
DTSTART;TZID=America/Indiana/Indianapolis:20260531T100000
DTEND;TZID=America/Indiana/Indianapolis:20260531T130000
DTSTAMP:20260421T114329
CREATED:20260407T221634Z
LAST-MODIFIED:20260407T221634Z
UID:2436-1780221600-1780232400@www.crawfordsvillegunclub.org
SUMMARY:Trap and 22 shoots
DESCRIPTION:
URL:https://www.crawfordsvillegunclub.org/event/trap-and-22-shoots-5/
END:VEVENT
END:VCALENDAR