BEGIN:VCALENDAR
VERSION:2.0
PRODID:-//Crawfordsville Gun Club - ECPv6.15.20//NONSGML v1.0//EN
CALSCALE:GREGORIAN
METHOD:PUBLISH
X-WR-CALNAME:Crawfordsville Gun Club
X-ORIGINAL-URL:https://www.crawfordsvillegunclub.org
X-WR-CALDESC:Events for Crawfordsville Gun Club
REFRESH-INTERVAL;VALUE=DURATION:PT1H
X-Robots-Tag:noindex
X-PUBLISHED-TTL:PT1H
BEGIN:VTIMEZONE
TZID:America/Indiana/Indianapolis
BEGIN:DAYLIGHT
TZOFFSETFROM:-0500
TZOFFSETTO:-0400
TZNAME:EDT
DTSTART:20220313T070000
END:DAYLIGHT
BEGIN:STANDARD
TZOFFSETFROM:-0400
TZOFFSETTO:-0500
TZNAME:EST
DTSTART:20221106T060000
END:STANDARD
BEGIN:DAYLIGHT
TZOFFSETFROM:-0500
TZOFFSETTO:-0400
TZNAME:EDT
DTSTART:20230312T070000
END:DAYLIGHT
BEGIN:STANDARD
TZOFFSETFROM:-0400
TZOFFSETTO:-0500
TZNAME:EST
DTSTART:20231105T060000
END:STANDARD
BEGIN:DAYLIGHT
TZOFFSETFROM:-0500
TZOFFSETTO:-0400
TZNAME:EDT
DTSTART:20240310T070000
END:DAYLIGHT
BEGIN:STANDARD
TZOFFSETFROM:-0400
TZOFFSETTO:-0500
TZNAME:EST
DTSTART:20241103T060000
END:STANDARD
END:VTIMEZONE
BEGIN:VEVENT
DTSTART;TZID=America/Indiana/Indianapolis:20230716T100000
DTEND;TZID=America/Indiana/Indianapolis:20230716T120000
DTSTAMP:20260423T021516
CREATED:20230524T150502Z
LAST-MODIFIED:20230524T150502Z
UID:1174-1689501600-1689508800@www.crawfordsvillegunclub.org
SUMMARY:Trap shoot
DESCRIPTION:22 shoot to follow
URL:https://www.crawfordsvillegunclub.org/event/trap-shoot-81/
END:VEVENT
BEGIN:VEVENT
DTSTART;TZID=America/Indiana/Indianapolis:20230709T110000
DTEND;TZID=America/Indiana/Indianapolis:20230709T130000
DTSTAMP:20260423T021516
CREATED:20230702T205637Z
LAST-MODIFIED:20230702T205637Z
UID:1211-1688900400-1688907600@www.crawfordsvillegunclub.org
SUMMARY:22 shoot 11 am - 1 pm
DESCRIPTION:
URL:https://www.crawfordsvillegunclub.org/event/22-shoot-11-am-1-pm/
END:VEVENT
BEGIN:VEVENT
DTSTART;TZID=America/Indiana/Indianapolis:20230709T100000
DTEND;TZID=America/Indiana/Indianapolis:20230709T120000
DTSTAMP:20260423T021516
CREATED:20230524T150403Z
LAST-MODIFIED:20230524T150403Z
UID:1172-1688896800-1688904000@www.crawfordsvillegunclub.org
SUMMARY:Trap shoot
DESCRIPTION:22 shoot to follow
URL:https://www.crawfordsvillegunclub.org/event/trap-shoot-80/
END:VEVENT
BEGIN:VEVENT
DTSTART;VALUE=DATE:20230704
DTEND;VALUE=DATE:20230705
DTSTAMP:20260423T021516
CREATED:20230524T151035Z
LAST-MODIFIED:20230524T151035Z
UID:1180-1688428800-1688515199@www.crawfordsvillegunclub.org
SUMMARY:4th of July!
DESCRIPTION:Go to a parade and fire works!
URL:https://www.crawfordsvillegunclub.org/event/4th-of-july/
END:VEVENT
BEGIN:VEVENT
DTSTART;TZID=America/Indiana/Indianapolis:20230702T100000
DTEND;TZID=America/Indiana/Indianapolis:20230702T120000
DTSTAMP:20260423T021516
CREATED:20230524T150157Z
LAST-MODIFIED:20230524T150157Z
UID:1170-1688292000-1688299200@www.crawfordsvillegunclub.org
SUMMARY:Trap shoot
DESCRIPTION:22 shoot to follow
URL:https://www.crawfordsvillegunclub.org/event/trap-shoot-79/
END:VEVENT
BEGIN:VEVENT
DTSTART;TZID=America/Indiana/Indianapolis:20230702T090000
DTEND;TZID=America/Indiana/Indianapolis:20230702T100000
DTSTAMP:20260423T021516
CREATED:20221112T195612Z
LAST-MODIFIED:20221112T195612Z
UID:955-1688288400-1688292000@www.crawfordsvillegunclub.org
SUMMARY:Board Meeting
DESCRIPTION:
URL:https://www.crawfordsvillegunclub.org/event/board-meeting-31/
END:VEVENT
BEGIN:VEVENT
DTSTART;TZID=America/Indiana/Indianapolis:20230625T100000
DTEND;TZID=America/Indiana/Indianapolis:20230625T120000
DTSTAMP:20260423T021516
CREATED:20230506T163934Z
LAST-MODIFIED:20230506T164816Z
UID:1156-1687687200-1687694400@www.crawfordsvillegunclub.org
SUMMARY:Trap Shoot
DESCRIPTION:22 Rifle shoot to follow
URL:https://www.crawfordsvillegunclub.org/event/trap-shoot-78/
END:VEVENT
BEGIN:VEVENT
DTSTART;TZID=America/Indiana/Indianapolis:20230618T100000
DTEND;TZID=America/Indiana/Indianapolis:20230618T120000
DTSTAMP:20260423T021516
CREATED:20230506T163839Z
LAST-MODIFIED:20230506T163839Z
UID:1154-1687082400-1687089600@www.crawfordsvillegunclub.org
SUMMARY:Trap Shoot
DESCRIPTION:22 Rifle shoot to follow
URL:https://www.crawfordsvillegunclub.org/event/trap-shoot-77/
END:VEVENT
BEGIN:VEVENT
DTSTART;VALUE=DATE:20230618
DTEND;VALUE=DATE:20230619
DTSTAMP:20260423T021516
CREATED:20230606T194012Z
LAST-MODIFIED:20230606T194547Z
UID:1186-1687046400-1687132799@www.crawfordsvillegunclub.org
SUMMARY:Fathers Day!
DESCRIPTION:A great day to spend with your children or grandchildren no matter how old they are.
URL:https://www.crawfordsvillegunclub.org/event/fathers-day/
END:VEVENT
BEGIN:VEVENT
DTSTART;TZID=America/Indiana/Indianapolis:20230611T100000
DTEND;TZID=America/Indiana/Indianapolis:20230611T120000
DTSTAMP:20260423T021516
CREATED:20230506T163743Z
LAST-MODIFIED:20230506T163743Z
UID:1152-1686477600-1686484800@www.crawfordsvillegunclub.org
SUMMARY:Trap Shoot
DESCRIPTION:22 Rifle shoot to follow
URL:https://www.crawfordsvillegunclub.org/event/trap-shoot-76/
END:VEVENT
BEGIN:VEVENT
DTSTART;TZID=America/Indiana/Indianapolis:20230604T100000
DTEND;TZID=America/Indiana/Indianapolis:20230604T120000
DTSTAMP:20260423T021516
CREATED:20230506T163657Z
LAST-MODIFIED:20230506T163657Z
UID:1150-1685872800-1685880000@www.crawfordsvillegunclub.org
SUMMARY:Trap Shoot
DESCRIPTION:22 Rifle shoot to follow
URL:https://www.crawfordsvillegunclub.org/event/trap-shoot-75/
END:VEVENT
BEGIN:VEVENT
DTSTART;TZID=America/Indiana/Indianapolis:20230604T090000
DTEND;TZID=America/Indiana/Indianapolis:20230604T100000
DTSTAMP:20260423T021516
CREATED:20221112T195457Z
LAST-MODIFIED:20221112T195457Z
UID:953-1685869200-1685872800@www.crawfordsvillegunclub.org
SUMMARY:Board Meeting
DESCRIPTION:
URL:https://www.crawfordsvillegunclub.org/event/board-meeting-30/
END:VEVENT
BEGIN:VEVENT
DTSTART;VALUE=DATE:20230529
DTEND;VALUE=DATE:20230530
DTSTAMP:20260423T021516
CREATED:20221112T201450Z
LAST-MODIFIED:20221112T201450Z
UID:973-1685318400-1685404799@www.crawfordsvillegunclub.org
SUMMARY:Memorial Day
DESCRIPTION:
URL:https://www.crawfordsvillegunclub.org/event/memorial-day/
END:VEVENT
BEGIN:VEVENT
DTSTART;TZID=America/Indiana/Indianapolis:20230528T100000
DTEND;TZID=America/Indiana/Indianapolis:20230528T120000
DTSTAMP:20260423T021516
CREATED:20230411T151454Z
LAST-MODIFIED:20230411T151454Z
UID:1121-1685268000-1685275200@www.crawfordsvillegunclub.org
SUMMARY:Trap Shoot
DESCRIPTION:22 shoot after trap
URL:https://www.crawfordsvillegunclub.org/event/trap-shoot-74/
END:VEVENT
BEGIN:VEVENT
DTSTART;TZID=America/Indiana/Indianapolis:20230521T120000
DTEND;TZID=America/Indiana/Indianapolis:20230521T140000
DTSTAMP:20260423T021516
CREATED:20230411T151340Z
LAST-MODIFIED:20230411T152330Z
UID:1119-1684670400-1684677600@www.crawfordsvillegunclub.org
SUMMARY:Trap Shoot
DESCRIPTION:22 shoot after trap
URL:https://www.crawfordsvillegunclub.org/event/trap-shoot-73/
END:VEVENT
BEGIN:VEVENT
DTSTART;TZID=America/Indiana/Indianapolis:20230521T110000
DTEND;TZID=America/Indiana/Indianapolis:20230521T120000
DTSTAMP:20260423T021516
CREATED:20221112T195217Z
LAST-MODIFIED:20221112T195217Z
UID:951-1684666800-1684670400@www.crawfordsvillegunclub.org
SUMMARY:Club Members Meeting
DESCRIPTION:
URL:https://www.crawfordsvillegunclub.org/event/club-members-meeting/
END:VEVENT
BEGIN:VEVENT
DTSTART;TZID=America/Indiana/Indianapolis:20230514T100000
DTEND;TZID=America/Indiana/Indianapolis:20230514T120000
DTSTAMP:20260423T021516
CREATED:20230411T151249Z
LAST-MODIFIED:20230411T152148Z
UID:1117-1684058400-1684065600@www.crawfordsvillegunclub.org
SUMMARY:Trap Shoot
DESCRIPTION:22 shoot after trap
URL:https://www.crawfordsvillegunclub.org/event/trap-shoot-72/
END:VEVENT
BEGIN:VEVENT
DTSTART;TZID=America/Indiana/Indianapolis:20230507T100000
DTEND;TZID=America/Indiana/Indianapolis:20230507T120000
DTSTAMP:20260423T021516
CREATED:20230411T151205Z
LAST-MODIFIED:20230411T151958Z
UID:1115-1683453600-1683460800@www.crawfordsvillegunclub.org
SUMMARY:Trap Shoot
DESCRIPTION:22 shoot after trap
URL:https://www.crawfordsvillegunclub.org/event/trap-shoot-71/
END:VEVENT
BEGIN:VEVENT
DTSTART;TZID=America/Indiana/Indianapolis:20230507T090000
DTEND;TZID=America/Indiana/Indianapolis:20230507T100000
DTSTAMP:20260423T021516
CREATED:20230411T151044Z
LAST-MODIFIED:20230411T151044Z
UID:1113-1683450000-1683453600@www.crawfordsvillegunclub.org
SUMMARY:Board Meeting
DESCRIPTION:
URL:https://www.crawfordsvillegunclub.org/event/board-meeting-37/
END:VEVENT
BEGIN:VEVENT
DTSTART;TZID=America/Indiana/Indianapolis:20230430T100000
DTEND;TZID=America/Indiana/Indianapolis:20230430T120000
DTSTAMP:20260423T021516
CREATED:20230310T141440Z
LAST-MODIFIED:20230310T141440Z
UID:1082-1682848800-1682856000@www.crawfordsvillegunclub.org
SUMMARY:Trap Shoot
DESCRIPTION:22 shoot to follow
URL:https://www.crawfordsvillegunclub.org/event/trap-shoot-70/
END:VEVENT
BEGIN:VEVENT
DTSTART;TZID=America/Indiana/Indianapolis:20230423T100000
DTEND;TZID=America/Indiana/Indianapolis:20230423T120000
DTSTAMP:20260423T021516
CREATED:20230310T141207Z
LAST-MODIFIED:20230310T141207Z
UID:1080-1682244000-1682251200@www.crawfordsvillegunclub.org
SUMMARY:Trap Shoot
DESCRIPTION:22 shoot to follow
URL:https://www.crawfordsvillegunclub.org/event/trap-shoot-69/
END:VEVENT
BEGIN:VEVENT
DTSTART;TZID=America/Indiana/Indianapolis:20230416T100000
DTEND;TZID=America/Indiana/Indianapolis:20230416T120000
DTSTAMP:20260423T021516
CREATED:20230310T141032Z
LAST-MODIFIED:20230310T141032Z
UID:1078-1681639200-1681646400@www.crawfordsvillegunclub.org
SUMMARY:Trap Shoot
DESCRIPTION:22 shoot to follow
URL:https://www.crawfordsvillegunclub.org/event/trap-shoot-68/
END:VEVENT
BEGIN:VEVENT
DTSTART;VALUE=DATE:20230416
DTEND;VALUE=DATE:20230417
DTSTAMP:20260423T021516
CREATED:20230325T131032Z
LAST-MODIFIED:20230325T131032Z
UID:1100-1681603200-1681689599@www.crawfordsvillegunclub.org
SUMMARY:NRA Convention-Indianapolis
DESCRIPTION:
URL:https://www.crawfordsvillegunclub.org/event/nra-convention-indianapolis-3/
END:VEVENT
BEGIN:VEVENT
DTSTART;VALUE=DATE:20230415
DTEND;VALUE=DATE:20230416
DTSTAMP:20260423T021516
CREATED:20230325T130957Z
LAST-MODIFIED:20230325T130957Z
UID:1098-1681516800-1681603199@www.crawfordsvillegunclub.org
SUMMARY:NRA Convention-Indianapolis
DESCRIPTION:
URL:https://www.crawfordsvillegunclub.org/event/nra-convention-indianapolis-2/
END:VEVENT
BEGIN:VEVENT
DTSTART;VALUE=DATE:20230414
DTEND;VALUE=DATE:20230415
DTSTAMP:20260423T021516
CREATED:20230325T130904Z
LAST-MODIFIED:20230325T130904Z
UID:1096-1681430400-1681516799@www.crawfordsvillegunclub.org
SUMMARY:NRA Convention-Indianapolis
DESCRIPTION:
URL:https://www.crawfordsvillegunclub.org/event/nra-convention-indianapolis/
END:VEVENT
BEGIN:VEVENT
DTSTART;VALUE=DATE:20230409
DTEND;VALUE=DATE:20230410
DTSTAMP:20260423T021516
CREATED:20230310T140832Z
LAST-MODIFIED:20230310T140832Z
UID:1076-1680998400-1681084799@www.crawfordsvillegunclub.org
SUMMARY:Easter Sunday
DESCRIPTION:
URL:https://www.crawfordsvillegunclub.org/event/easter-sunday/
END:VEVENT
BEGIN:VEVENT
DTSTART;VALUE=DATE:20230407
DTEND;VALUE=DATE:20230408
DTSTAMP:20260423T021516
CREATED:20230310T140747Z
LAST-MODIFIED:20230310T140747Z
UID:1074-1680825600-1680911999@www.crawfordsvillegunclub.org
SUMMARY:Good Friday
DESCRIPTION:
URL:https://www.crawfordsvillegunclub.org/event/good-friday/
END:VEVENT
BEGIN:VEVENT
DTSTART;TZID=America/Indiana/Indianapolis:20230402T100000
DTEND;TZID=America/Indiana/Indianapolis:20230402T120000
DTSTAMP:20260423T021516
CREATED:20230310T140628Z
LAST-MODIFIED:20230310T140628Z
UID:1072-1680429600-1680436800@www.crawfordsvillegunclub.org
SUMMARY:Trap Shoot
DESCRIPTION:22 shoot to follow
URL:https://www.crawfordsvillegunclub.org/event/trap-shoot-67/
END:VEVENT
BEGIN:VEVENT
DTSTART;TZID=America/Indiana/Indianapolis:20230402T090000
DTEND;TZID=America/Indiana/Indianapolis:20230402T100000
DTSTAMP:20260423T021516
CREATED:20221112T194448Z
LAST-MODIFIED:20221112T194448Z
UID:947-1680426000-1680429600@www.crawfordsvillegunclub.org
SUMMARY:Board Meeting
DESCRIPTION:
URL:https://www.crawfordsvillegunclub.org/event/board-meeting-28/
END:VEVENT
BEGIN:VEVENT
DTSTART;VALUE=DATE:20230402
DTEND;VALUE=DATE:20230403
DTSTAMP:20260423T021516
CREATED:20230310T140507Z
LAST-MODIFIED:20230310T140507Z
UID:1070-1680393600-1680479999@www.crawfordsvillegunclub.org
SUMMARY:Palm Sunday
DESCRIPTION:
URL:https://www.crawfordsvillegunclub.org/event/palm-sunday/
END:VEVENT
END:VCALENDAR