BEGIN:VCALENDAR
VERSION:2.0
PRODID:-//Crawfordsville Gun Club - ECPv6.15.20//NONSGML v1.0//EN
CALSCALE:GREGORIAN
METHOD:PUBLISH
X-WR-CALNAME:Crawfordsville Gun Club
X-ORIGINAL-URL:https://www.crawfordsvillegunclub.org
X-WR-CALDESC:Events for Crawfordsville Gun Club
REFRESH-INTERVAL;VALUE=DURATION:PT1H
X-Robots-Tag:noindex
X-PUBLISHED-TTL:PT1H
BEGIN:VTIMEZONE
TZID:America/Indiana/Indianapolis
BEGIN:DAYLIGHT
TZOFFSETFROM:-0500
TZOFFSETTO:-0400
TZNAME:EDT
DTSTART:20210314T070000
END:DAYLIGHT
BEGIN:STANDARD
TZOFFSETFROM:-0400
TZOFFSETTO:-0500
TZNAME:EST
DTSTART:20211107T060000
END:STANDARD
BEGIN:DAYLIGHT
TZOFFSETFROM:-0500
TZOFFSETTO:-0400
TZNAME:EDT
DTSTART:20220313T070000
END:DAYLIGHT
BEGIN:STANDARD
TZOFFSETFROM:-0400
TZOFFSETTO:-0500
TZNAME:EST
DTSTART:20221106T060000
END:STANDARD
BEGIN:DAYLIGHT
TZOFFSETFROM:-0500
TZOFFSETTO:-0400
TZNAME:EDT
DTSTART:20230312T070000
END:DAYLIGHT
BEGIN:STANDARD
TZOFFSETFROM:-0400
TZOFFSETTO:-0500
TZNAME:EST
DTSTART:20231105T060000
END:STANDARD
BEGIN:DAYLIGHT
TZOFFSETFROM:-0500
TZOFFSETTO:-0400
TZNAME:EDT
DTSTART:20240310T070000
END:DAYLIGHT
BEGIN:STANDARD
TZOFFSETFROM:-0400
TZOFFSETTO:-0500
TZNAME:EST
DTSTART:20241103T060000
END:STANDARD
END:VTIMEZONE
BEGIN:VEVENT
DTSTART;TZID=America/Indiana/Indianapolis:20230305T090000
DTEND;TZID=America/Indiana/Indianapolis:20230305T100000
DTSTAMP:20260423T074231
CREATED:20221112T194333Z
LAST-MODIFIED:20221112T194333Z
UID:945-1678006800-1678010400@www.crawfordsvillegunclub.org
SUMMARY:Board Meeting
DESCRIPTION:
URL:https://www.crawfordsvillegunclub.org/event/board-meeting-27/
END:VEVENT
BEGIN:VEVENT
DTSTART;VALUE=DATE:20230220
DTEND;VALUE=DATE:20230221
DTSTAMP:20260423T074231
CREATED:20230204T141016Z
LAST-MODIFIED:20230204T141016Z
UID:1020-1676851200-1676937599@www.crawfordsvillegunclub.org
SUMMARY:Presidents' Day
DESCRIPTION:
URL:https://www.crawfordsvillegunclub.org/event/presidents-day/
END:VEVENT
BEGIN:VEVENT
DTSTART;VALUE=DATE:20230214
DTEND;VALUE=DATE:20230215
DTSTAMP:20260423T074231
CREATED:20230204T140857Z
LAST-MODIFIED:20230204T140857Z
UID:1018-1676332800-1676419199@www.crawfordsvillegunclub.org
SUMMARY:Valentine's Day
DESCRIPTION:
URL:https://www.crawfordsvillegunclub.org/event/valentines-day/
END:VEVENT
BEGIN:VEVENT
DTSTART;TZID=America/Indiana/Indianapolis:20230205T090000
DTEND;TZID=America/Indiana/Indianapolis:20230205T100000
DTSTAMP:20260423T074231
CREATED:20221112T193930Z
LAST-MODIFIED:20221112T193930Z
UID:943-1675587600-1675591200@www.crawfordsvillegunclub.org
SUMMARY:Board Meeting
DESCRIPTION:
URL:https://www.crawfordsvillegunclub.org/event/board-meeting-26/
END:VEVENT
BEGIN:VEVENT
DTSTART;TZID=America/Indiana/Indianapolis:20230108T090000
DTEND;TZID=America/Indiana/Indianapolis:20230108T100000
DTSTAMP:20260423T074231
CREATED:20221112T193612Z
LAST-MODIFIED:20221112T193612Z
UID:939-1673168400-1673172000@www.crawfordsvillegunclub.org
SUMMARY:Board Meeting
DESCRIPTION:
URL:https://www.crawfordsvillegunclub.org/event/board-meeting-21/
END:VEVENT
BEGIN:VEVENT
DTSTART;VALUE=DATE:20230101
DTEND;VALUE=DATE:20230102
DTSTAMP:20260423T074231
CREATED:20221112T193753Z
LAST-MODIFIED:20221112T193753Z
UID:941-1672531200-1672617599@www.crawfordsvillegunclub.org
SUMMARY:Happy New Year's Day!
DESCRIPTION:
URL:https://www.crawfordsvillegunclub.org/event/happy-new-years-day/
END:VEVENT
BEGIN:VEVENT
DTSTART;VALUE=DATE:20221225
DTEND;VALUE=DATE:20221226
DTSTAMP:20260423T074231
CREATED:20221007T172137Z
LAST-MODIFIED:20221007T172137Z
UID:907-1671926400-1672012799@www.crawfordsvillegunclub.org
SUMMARY:Merry Christmas!
DESCRIPTION:
URL:https://www.crawfordsvillegunclub.org/event/merry-christmas/
END:VEVENT
BEGIN:VEVENT
DTSTART;TZID=America/Indiana/Indianapolis:20221204T090000
DTEND;TZID=America/Indiana/Indianapolis:20221204T100000
DTSTAMP:20260423T074231
CREATED:20211212T022508Z
LAST-MODIFIED:20220526T131949Z
UID:359-1670144400-1670148000@www.crawfordsvillegunclub.org
SUMMARY:Board Meeting
DESCRIPTION:
URL:https://www.crawfordsvillegunclub.org/event/board-meeting-24/
CATEGORIES:Board Meeting
END:VEVENT
BEGIN:VEVENT
DTSTART;TZID=America/Indiana/Indianapolis:20221127T120000
DTEND;TZID=America/Indiana/Indianapolis:20221127T140000
DTSTAMP:20260423T074231
CREATED:20220926T004552Z
LAST-MODIFIED:20220926T004552Z
UID:884-1669550400-1669557600@www.crawfordsvillegunclub.org
SUMMARY:Rim fire shoot
DESCRIPTION:
URL:https://www.crawfordsvillegunclub.org/event/rim-fire-shoot-4/
END:VEVENT
BEGIN:VEVENT
DTSTART;TZID=America/Indiana/Indianapolis:20221127T100000
DTEND;TZID=America/Indiana/Indianapolis:20221127T120000
DTSTAMP:20260423T074231
CREATED:20220926T004516Z
LAST-MODIFIED:20220926T004516Z
UID:882-1669543200-1669550400@www.crawfordsvillegunclub.org
SUMMARY:Trap shoot
DESCRIPTION:
URL:https://www.crawfordsvillegunclub.org/event/trap-shoot-62/
END:VEVENT
BEGIN:VEVENT
DTSTART;VALUE=DATE:20221124
DTEND;VALUE=DATE:20221125
DTSTAMP:20260423T074231
CREATED:20221007T172640Z
LAST-MODIFIED:20221007T172640Z
UID:910-1669248000-1669334399@www.crawfordsvillegunclub.org
SUMMARY:Thanksgiving-Be thankful for all the people who love you!
DESCRIPTION:
URL:https://www.crawfordsvillegunclub.org/event/thanksgiving-be-thankful-for-all-the-people-who-love-you/
END:VEVENT
BEGIN:VEVENT
DTSTART;TZID=America/Indiana/Indianapolis:20221120T120000
DTEND;TZID=America/Indiana/Indianapolis:20221120T140000
DTSTAMP:20260423T074231
CREATED:20220926T004439Z
LAST-MODIFIED:20220926T004439Z
UID:880-1668945600-1668952800@www.crawfordsvillegunclub.org
SUMMARY:Rim fire shoot
DESCRIPTION:
URL:https://www.crawfordsvillegunclub.org/event/rim-fire-shoot-3/
END:VEVENT
BEGIN:VEVENT
DTSTART;TZID=America/Indiana/Indianapolis:20221120T100000
DTEND;TZID=America/Indiana/Indianapolis:20221120T120000
DTSTAMP:20260423T074231
CREATED:20220926T004400Z
LAST-MODIFIED:20220926T004400Z
UID:878-1668938400-1668945600@www.crawfordsvillegunclub.org
SUMMARY:Trap shoot
DESCRIPTION:
URL:https://www.crawfordsvillegunclub.org/event/trap-shoot-61/
END:VEVENT
BEGIN:VEVENT
DTSTART;TZID=America/Indiana/Indianapolis:20221113T120000
DTEND;TZID=America/Indiana/Indianapolis:20221113T120000
DTSTAMP:20260423T074231
CREATED:20220926T004311Z
LAST-MODIFIED:20220926T004311Z
UID:876-1668340800-1668340800@www.crawfordsvillegunclub.org
SUMMARY:Rim fire shoot
DESCRIPTION:
URL:https://www.crawfordsvillegunclub.org/event/rim-fire-shoot-2/
END:VEVENT
BEGIN:VEVENT
DTSTART;TZID=America/Indiana/Indianapolis:20221113T100000
DTEND;TZID=America/Indiana/Indianapolis:20221113T120000
DTSTAMP:20260423T074231
CREATED:20220926T004218Z
LAST-MODIFIED:20220926T004218Z
UID:874-1668333600-1668340800@www.crawfordsvillegunclub.org
SUMMARY:Trap shoot
DESCRIPTION:
URL:https://www.crawfordsvillegunclub.org/event/trap-shoot-60/
END:VEVENT
BEGIN:VEVENT
DTSTART;VALUE=DATE:20221111
DTEND;VALUE=DATE:20221112
DTSTAMP:20260423T074231
CREATED:20221007T173029Z
LAST-MODIFIED:20221007T173029Z
UID:912-1668124800-1668211199@www.crawfordsvillegunclub.org
SUMMARY:Veterans Day
DESCRIPTION:
URL:https://www.crawfordsvillegunclub.org/event/veterans-day/
END:VEVENT
BEGIN:VEVENT
DTSTART;TZID=America/Indiana/Indianapolis:20221106T120000
DTEND;TZID=America/Indiana/Indianapolis:20221106T140000
DTSTAMP:20260423T074231
CREATED:20220926T004056Z
LAST-MODIFIED:20220926T004056Z
UID:872-1667736000-1667743200@www.crawfordsvillegunclub.org
SUMMARY:Rim fire shoot
DESCRIPTION:
URL:https://www.crawfordsvillegunclub.org/event/rim-fire-shoot/
END:VEVENT
BEGIN:VEVENT
DTSTART;TZID=America/Indiana/Indianapolis:20221106T100000
DTEND;TZID=America/Indiana/Indianapolis:20221106T120000
DTSTAMP:20260423T074231
CREATED:20220926T004007Z
LAST-MODIFIED:20220926T004019Z
UID:870-1667728800-1667736000@www.crawfordsvillegunclub.org
SUMMARY:Trap Shoot
DESCRIPTION:
URL:https://www.crawfordsvillegunclub.org/event/trap-shoot-59/
END:VEVENT
BEGIN:VEVENT
DTSTART;TZID=America/Indiana/Indianapolis:20221106T090000
DTEND;TZID=America/Indiana/Indianapolis:20221106T100000
DTSTAMP:20260423T074231
CREATED:20211212T022300Z
LAST-MODIFIED:20220526T131937Z
UID:357-1667725200-1667728800@www.crawfordsvillegunclub.org
SUMMARY:Board Meeting
DESCRIPTION:
URL:https://www.crawfordsvillegunclub.org/event/board-meeting-23/
CATEGORIES:Board Meeting
END:VEVENT
BEGIN:VEVENT
DTSTART;TZID=America/Indiana/Indianapolis:20221030T120000
DTEND;TZID=America/Indiana/Indianapolis:20221030T140000
DTSTAMP:20260423T074231
CREATED:20220820T155025Z
LAST-MODIFIED:20220820T155025Z
UID:828-1667131200-1667138400@www.crawfordsvillegunclub.org
SUMMARY:22 Rim Fire Shoot
DESCRIPTION:
URL:https://www.crawfordsvillegunclub.org/event/22-rim-fire-shoot-8/
END:VEVENT
BEGIN:VEVENT
DTSTART;TZID=America/Indiana/Indianapolis:20221030T100000
DTEND;TZID=America/Indiana/Indianapolis:20221030T120000
DTSTAMP:20260423T074231
CREATED:20220820T154606Z
LAST-MODIFIED:20220820T154606Z
UID:820-1667124000-1667131200@www.crawfordsvillegunclub.org
SUMMARY:Trap Shoot
DESCRIPTION:
URL:https://www.crawfordsvillegunclub.org/event/trap-shoot-58/
END:VEVENT
BEGIN:VEVENT
DTSTART;TZID=America/Indiana/Indianapolis:20221023T120000
DTEND;TZID=America/Indiana/Indianapolis:20221023T140000
DTSTAMP:20260423T074231
CREATED:20220820T154941Z
LAST-MODIFIED:20220820T155658Z
UID:826-1666526400-1666533600@www.crawfordsvillegunclub.org
SUMMARY:22 Rim Fire Shoot
DESCRIPTION:
URL:https://www.crawfordsvillegunclub.org/event/22-rim-fire-shoot-7/
END:VEVENT
BEGIN:VEVENT
DTSTART;TZID=America/Indiana/Indianapolis:20221023T100000
DTEND;TZID=America/Indiana/Indianapolis:20221023T120000
DTSTAMP:20260423T074231
CREATED:20220820T154518Z
LAST-MODIFIED:20220820T154518Z
UID:818-1666519200-1666526400@www.crawfordsvillegunclub.org
SUMMARY:Trap Shoot
DESCRIPTION:
URL:https://www.crawfordsvillegunclub.org/event/trap-shoot-57/
END:VEVENT
BEGIN:VEVENT
DTSTART;TZID=America/Indiana/Indianapolis:20221016T120000
DTEND;TZID=America/Indiana/Indianapolis:20221016T140000
DTSTAMP:20260423T074231
CREATED:20220820T154856Z
LAST-MODIFIED:20220820T154856Z
UID:824-1665921600-1665928800@www.crawfordsvillegunclub.org
SUMMARY:22 Rim Fire Shoot
DESCRIPTION:
URL:https://www.crawfordsvillegunclub.org/event/22-rim-fire-shoot-6/
END:VEVENT
BEGIN:VEVENT
DTSTART;TZID=America/Indiana/Indianapolis:20221016T100000
DTEND;TZID=America/Indiana/Indianapolis:20221016T120000
DTSTAMP:20260423T074231
CREATED:20220820T154429Z
LAST-MODIFIED:20220820T154429Z
UID:816-1665914400-1665921600@www.crawfordsvillegunclub.org
SUMMARY:Trap Shoot
DESCRIPTION:
URL:https://www.crawfordsvillegunclub.org/event/trap-shoot-56/
END:VEVENT
BEGIN:VEVENT
DTSTART;TZID=America/Indiana/Indianapolis:20221009T120000
DTEND;TZID=America/Indiana/Indianapolis:20221009T140000
DTSTAMP:20260423T074231
CREATED:20220820T155940Z
LAST-MODIFIED:20220820T155940Z
UID:830-1665316800-1665324000@www.crawfordsvillegunclub.org
SUMMARY:22 Rim Fire Shoot
DESCRIPTION:
URL:https://www.crawfordsvillegunclub.org/event/22-rim-fire-shoot-9/
END:VEVENT
BEGIN:VEVENT
DTSTART;TZID=America/Indiana/Indianapolis:20221009T100000
DTEND;TZID=America/Indiana/Indianapolis:20221009T120000
DTSTAMP:20260423T074231
CREATED:20220820T154104Z
LAST-MODIFIED:20220820T154104Z
UID:812-1665309600-1665316800@www.crawfordsvillegunclub.org
SUMMARY:Trap Shoot
DESCRIPTION:
URL:https://www.crawfordsvillegunclub.org/event/trap-shoot-54/
END:VEVENT
BEGIN:VEVENT
DTSTART;TZID=America/Indiana/Indianapolis:20221002T120000
DTEND;TZID=America/Indiana/Indianapolis:20221002T140000
DTSTAMP:20260423T074231
CREATED:20220820T154755Z
LAST-MODIFIED:20220820T154755Z
UID:822-1664712000-1664719200@www.crawfordsvillegunclub.org
SUMMARY:22 Rim Fire Shoot
DESCRIPTION:
URL:https://www.crawfordsvillegunclub.org/event/22-rim-fire-shoot-5/
END:VEVENT
BEGIN:VEVENT
DTSTART;TZID=America/Indiana/Indianapolis:20221002T100000
DTEND;TZID=America/Indiana/Indianapolis:20221002T120000
DTSTAMP:20260423T074231
CREATED:20220820T154351Z
LAST-MODIFIED:20220820T154351Z
UID:814-1664704800-1664712000@www.crawfordsvillegunclub.org
SUMMARY:Trap Shoot
DESCRIPTION:
URL:https://www.crawfordsvillegunclub.org/event/trap-shoot-55/
END:VEVENT
BEGIN:VEVENT
DTSTART;TZID=America/Indiana/Indianapolis:20221002T090000
DTEND;TZID=America/Indiana/Indianapolis:20221002T100000
DTSTAMP:20260423T074231
CREATED:20211212T022143Z
LAST-MODIFIED:20220526T131918Z
UID:355-1664701200-1664704800@www.crawfordsvillegunclub.org
SUMMARY:Board Meeting
DESCRIPTION:
URL:https://www.crawfordsvillegunclub.org/event/board-meeting-22/
CATEGORIES:Board Meeting
END:VEVENT
END:VCALENDAR