BEGIN:VCALENDAR
VERSION:2.0
PRODID:-//Crawfordsville Gun Club - ECPv6.15.20//NONSGML v1.0//EN
CALSCALE:GREGORIAN
METHOD:PUBLISH
X-WR-CALNAME:Crawfordsville Gun Club
X-ORIGINAL-URL:https://www.crawfordsvillegunclub.org
X-WR-CALDESC:Events for Crawfordsville Gun Club
REFRESH-INTERVAL;VALUE=DURATION:PT1H
X-Robots-Tag:noindex
X-PUBLISHED-TTL:PT1H
BEGIN:VTIMEZONE
TZID:America/Indiana/Indianapolis
BEGIN:DAYLIGHT
TZOFFSETFROM:-0500
TZOFFSETTO:-0400
TZNAME:EDT
DTSTART:20200308T070000
END:DAYLIGHT
BEGIN:STANDARD
TZOFFSETFROM:-0400
TZOFFSETTO:-0500
TZNAME:EST
DTSTART:20201101T060000
END:STANDARD
BEGIN:DAYLIGHT
TZOFFSETFROM:-0500
TZOFFSETTO:-0400
TZNAME:EDT
DTSTART:20210314T070000
END:DAYLIGHT
BEGIN:STANDARD
TZOFFSETFROM:-0400
TZOFFSETTO:-0500
TZNAME:EST
DTSTART:20211107T060000
END:STANDARD
BEGIN:DAYLIGHT
TZOFFSETFROM:-0500
TZOFFSETTO:-0400
TZNAME:EDT
DTSTART:20220313T070000
END:DAYLIGHT
BEGIN:STANDARD
TZOFFSETFROM:-0400
TZOFFSETTO:-0500
TZNAME:EST
DTSTART:20221106T060000
END:STANDARD
BEGIN:DAYLIGHT
TZOFFSETFROM:-0500
TZOFFSETTO:-0400
TZNAME:EDT
DTSTART:20230312T070000
END:DAYLIGHT
BEGIN:STANDARD
TZOFFSETFROM:-0400
TZOFFSETTO:-0500
TZNAME:EST
DTSTART:20231105T060000
END:STANDARD
END:VTIMEZONE
BEGIN:VEVENT
DTSTART;TZID=America/Indiana/Indianapolis:20220501T120000
DTEND;TZID=America/Indiana/Indianapolis:20220501T140000
DTSTAMP:20260423T161612
CREATED:20220403T190506Z
LAST-MODIFIED:20220403T190536Z
UID:561-1651406400-1651413600@www.crawfordsvillegunclub.org
SUMMARY:Trap Shoot
DESCRIPTION:
URL:https://www.crawfordsvillegunclub.org/event/trap-shoot-32/
END:VEVENT
BEGIN:VEVENT
DTSTART;TZID=America/Indiana/Indianapolis:20220501T090000
DTEND;TZID=America/Indiana/Indianapolis:20220501T100000
DTSTAMP:20260423T161612
CREATED:20211212T021056Z
LAST-MODIFIED:20220218T172117Z
UID:341-1651395600-1651399200@www.crawfordsvillegunclub.org
SUMMARY:Board Meeting
DESCRIPTION:
URL:https://www.crawfordsvillegunclub.org/event/board-meeting-17/
LOCATION:Crawfordsville Gun Club\, 3225 State Road 47 North\, Crawfordsville\, IN\, 47933\, United States
CATEGORIES:Board Meeting
END:VEVENT
BEGIN:VEVENT
DTSTART;TZID=America/Indiana/Indianapolis:20220424T120000
DTEND;TZID=America/Indiana/Indianapolis:20220424T140000
DTSTAMP:20260423T161612
CREATED:20220306T214415Z
LAST-MODIFIED:20220306T214415Z
UID:522-1650801600-1650808800@www.crawfordsvillegunclub.org
SUMMARY:Trap Shoot
DESCRIPTION:
URL:https://www.crawfordsvillegunclub.org/event/trap-shoot-31/
END:VEVENT
BEGIN:VEVENT
DTSTART;TZID=America/Indiana/Indianapolis:20220417T120000
DTEND;TZID=America/Indiana/Indianapolis:20220417T140000
DTSTAMP:20260423T161612
CREATED:20220306T214322Z
LAST-MODIFIED:20220306T214322Z
UID:520-1650196800-1650204000@www.crawfordsvillegunclub.org
SUMMARY:Trap Shoot
DESCRIPTION:
URL:https://www.crawfordsvillegunclub.org/event/trap-shoot-30/
END:VEVENT
BEGIN:VEVENT
DTSTART;TZID=America/Indiana/Indianapolis:20220410T120000
DTEND;TZID=America/Indiana/Indianapolis:20220410T140000
DTSTAMP:20260423T161612
CREATED:20220306T214232Z
LAST-MODIFIED:20220306T214232Z
UID:518-1649592000-1649599200@www.crawfordsvillegunclub.org
SUMMARY:Trap Shoot
DESCRIPTION:
URL:https://www.crawfordsvillegunclub.org/event/trap-shoot-29/
END:VEVENT
BEGIN:VEVENT
DTSTART;TZID=America/Indiana/Indianapolis:20220409T080000
DTEND;TZID=America/Indiana/Indianapolis:20220409T180000
DTSTAMP:20260423T161612
CREATED:20220306T212202Z
LAST-MODIFIED:20220306T212202Z
UID:506-1649491200-1649527200@www.crawfordsvillegunclub.org
SUMMARY:Handgun Class
DESCRIPTION:
URL:https://www.crawfordsvillegunclub.org/event/handgun-class-2/
END:VEVENT
BEGIN:VEVENT
DTSTART;TZID=America/Indiana/Indianapolis:20220403T120000
DTEND;TZID=America/Indiana/Indianapolis:20220403T140000
DTSTAMP:20260423T161612
CREATED:20220306T214111Z
LAST-MODIFIED:20220306T214123Z
UID:516-1648987200-1648994400@www.crawfordsvillegunclub.org
SUMMARY:Trap Shoot
DESCRIPTION:
URL:https://www.crawfordsvillegunclub.org/event/trap-shoot-28/
END:VEVENT
BEGIN:VEVENT
DTSTART;TZID=America/Indiana/Indianapolis:20220403T090000
DTEND;TZID=America/Indiana/Indianapolis:20220403T100000
DTSTAMP:20260423T161612
CREATED:20211212T020923Z
LAST-MODIFIED:20220218T171005Z
UID:339-1648976400-1648980000@www.crawfordsvillegunclub.org
SUMMARY:Board Meeting
DESCRIPTION:
URL:https://www.crawfordsvillegunclub.org/event/board-meeting-16/
LOCATION:Crawfordsville Gun Club\, 3225 State Road 47 North\, Crawfordsville\, IN\, 47933\, United States
CATEGORIES:Board Meeting
END:VEVENT
BEGIN:VEVENT
DTSTART;TZID=America/Indiana/Indianapolis:20220327T120000
DTEND;TZID=America/Indiana/Indianapolis:20220327T140000
DTSTAMP:20260423T161612
CREATED:20220218T190245Z
LAST-MODIFIED:20220218T190301Z
UID:474-1648382400-1648389600@www.crawfordsvillegunclub.org
SUMMARY:Trap Shoot
DESCRIPTION:
URL:https://www.crawfordsvillegunclub.org/event/trap-shoot-27/
END:VEVENT
BEGIN:VEVENT
DTSTART;TZID=America/Indiana/Indianapolis:20220320T120000
DTEND;TZID=America/Indiana/Indianapolis:20220320T140000
DTSTAMP:20260423T161612
CREATED:20220218T190200Z
LAST-MODIFIED:20220218T190200Z
UID:472-1647777600-1647784800@www.crawfordsvillegunclub.org
SUMMARY:Trap Shoot
DESCRIPTION:
URL:https://www.crawfordsvillegunclub.org/event/trap-shoot-26/
END:VEVENT
BEGIN:VEVENT
DTSTART;TZID=America/Indiana/Indianapolis:20220313T120000
DTEND;TZID=America/Indiana/Indianapolis:20220313T140000
DTSTAMP:20260423T161612
CREATED:20220218T185731Z
LAST-MODIFIED:20220218T185731Z
UID:470-1647172800-1647180000@www.crawfordsvillegunclub.org
SUMMARY:Trap Shoot
DESCRIPTION:
URL:https://www.crawfordsvillegunclub.org/event/trap-shoot-25/
END:VEVENT
BEGIN:VEVENT
DTSTART;TZID=America/Indiana/Indianapolis:20220313T120000
DTEND;TZID=America/Indiana/Indianapolis:20220313T140000
DTSTAMP:20260423T161612
CREATED:20220218T185042Z
LAST-MODIFIED:20220218T185042Z
UID:468-1647172800-1647180000@www.crawfordsvillegunclub.org
SUMMARY:Trap Shoot
DESCRIPTION:
URL:https://www.crawfordsvillegunclub.org/event/trap-shoot-24/
END:VEVENT
BEGIN:VEVENT
DTSTART;TZID=America/Indiana/Indianapolis:20220306T090000
DTEND;TZID=America/Indiana/Indianapolis:20220306T100000
DTSTAMP:20260423T161612
CREATED:20211212T020447Z
LAST-MODIFIED:20220218T170945Z
UID:337-1646557200-1646560800@www.crawfordsvillegunclub.org
SUMMARY:Board Meeting
DESCRIPTION:
URL:https://www.crawfordsvillegunclub.org/event/board-meeting-15/
LOCATION:Crawfordsville Gun Club\, 3225 State Road 47 North\, Crawfordsville\, IN\, 47933\, United States
CATEGORIES:Board Meeting
END:VEVENT
BEGIN:VEVENT
DTSTART;TZID=America/Indiana/Indianapolis:20220227T120000
DTEND;TZID=America/Indiana/Indianapolis:20220227T140000
DTSTAMP:20260423T161612
CREATED:20220117T200217Z
LAST-MODIFIED:20220117T200221Z
UID:413-1645963200-1645970400@www.crawfordsvillegunclub.org
SUMMARY:Trap Shoot
DESCRIPTION:
URL:https://www.crawfordsvillegunclub.org/event/trap-shoot-23/
END:VEVENT
BEGIN:VEVENT
DTSTART;TZID=America/Indiana/Indianapolis:20220220T120000
DTEND;TZID=America/Indiana/Indianapolis:20220220T140000
DTSTAMP:20260423T161612
CREATED:20220117T200127Z
LAST-MODIFIED:20220117T200131Z
UID:411-1645358400-1645365600@www.crawfordsvillegunclub.org
SUMMARY:Trap Shoot
DESCRIPTION:
URL:https://www.crawfordsvillegunclub.org/event/trap-shoot-22/
END:VEVENT
BEGIN:VEVENT
DTSTART;TZID=America/Indiana/Indianapolis:20220213T120000
DTEND;TZID=America/Indiana/Indianapolis:20220213T140000
DTSTAMP:20260423T161612
CREATED:20220117T200030Z
LAST-MODIFIED:20220117T200033Z
UID:409-1644753600-1644760800@www.crawfordsvillegunclub.org
SUMMARY:Trap Shoot
DESCRIPTION:
URL:https://www.crawfordsvillegunclub.org/event/trap-shoot-21/
END:VEVENT
BEGIN:VEVENT
DTSTART;TZID=America/Indiana/Indianapolis:20220206T120000
DTEND;TZID=America/Indiana/Indianapolis:20220206T140000
DTSTAMP:20260423T161612
CREATED:20220117T195933Z
LAST-MODIFIED:20220117T195937Z
UID:407-1644148800-1644156000@www.crawfordsvillegunclub.org
SUMMARY:Trap Shoot
DESCRIPTION:
URL:https://www.crawfordsvillegunclub.org/event/trap-shoot-20/
END:VEVENT
BEGIN:VEVENT
DTSTART;TZID=America/Indiana/Indianapolis:20220206T090000
DTEND;TZID=America/Indiana/Indianapolis:20220206T100000
DTSTAMP:20260423T161612
CREATED:20211212T020152Z
LAST-MODIFIED:20220218T170423Z
UID:335-1644138000-1644141600@www.crawfordsvillegunclub.org
SUMMARY:Board Meeting
DESCRIPTION:
URL:https://www.crawfordsvillegunclub.org/event/board-meeting-14/
LOCATION:Crawfordsville Gun Club\, 3225 State Road 47 North\, Crawfordsville\, IN\, 47933\, United States
CATEGORIES:Board Meeting
END:VEVENT
BEGIN:VEVENT
DTSTART;TZID=America/Indiana/Indianapolis:20220204T180000
DTEND;TZID=America/Indiana/Indianapolis:20220204T210000
DTSTAMP:20260423T161612
CREATED:20220117T162421Z
LAST-MODIFIED:20220203T223244Z
UID:390-1643997600-1644008400@www.crawfordsvillegunclub.org
SUMMARY:Basic Pistol Course
DESCRIPTION:
URL:https://www.crawfordsvillegunclub.org/event/basic-pistol-course/
LOCATION:Crawfordsville Gun Club\, 3225 State Road 47 North\, Crawfordsville\, IN\, 47933\, United States
END:VEVENT
BEGIN:VEVENT
DTSTART;TZID=America/Indiana/Indianapolis:20220130T120000
DTEND;TZID=America/Indiana/Indianapolis:20220130T140000
DTSTAMP:20260423T161612
CREATED:20211231T191203Z
LAST-MODIFIED:20211231T191208Z
UID:381-1643544000-1643551200@www.crawfordsvillegunclub.org
SUMMARY:Trap shoot
DESCRIPTION:
URL:https://www.crawfordsvillegunclub.org/event/trap-shoot-19/
END:VEVENT
BEGIN:VEVENT
DTSTART;TZID=America/Indiana/Indianapolis:20220123T120000
DTEND;TZID=America/Indiana/Indianapolis:20220123T140000
DTSTAMP:20260423T161612
CREATED:20211231T191117Z
LAST-MODIFIED:20211231T191121Z
UID:379-1642939200-1642946400@www.crawfordsvillegunclub.org
SUMMARY:Trap shoot
DESCRIPTION:
URL:https://www.crawfordsvillegunclub.org/event/trap-shoot-18/
END:VEVENT
BEGIN:VEVENT
DTSTART;TZID=America/Indiana/Indianapolis:20220116T120000
DTEND;TZID=America/Indiana/Indianapolis:20220116T140000
DTSTAMP:20260423T161612
CREATED:20211231T191033Z
LAST-MODIFIED:20211231T191037Z
UID:377-1642334400-1642341600@www.crawfordsvillegunclub.org
SUMMARY:Trap shoot
DESCRIPTION:
URL:https://www.crawfordsvillegunclub.org/event/trap-shoot-17/
END:VEVENT
BEGIN:VEVENT
DTSTART;TZID=America/Indiana/Indianapolis:20220109T120000
DTEND;TZID=America/Indiana/Indianapolis:20220109T140000
DTSTAMP:20260423T161612
CREATED:20211231T190931Z
LAST-MODIFIED:20211231T190936Z
UID:375-1641729600-1641736800@www.crawfordsvillegunclub.org
SUMMARY:Trap shoot
DESCRIPTION:
URL:https://www.crawfordsvillegunclub.org/event/trap-shoot-16/
END:VEVENT
BEGIN:VEVENT
DTSTART;TZID=America/Indiana/Indianapolis:20220109T090000
DTEND;TZID=America/Indiana/Indianapolis:20220109T100000
DTSTAMP:20260423T161612
CREATED:20211212T020019Z
LAST-MODIFIED:20220218T170424Z
UID:333-1641718800-1641722400@www.crawfordsvillegunclub.org
SUMMARY:Board Meeting
DESCRIPTION:
URL:https://www.crawfordsvillegunclub.org/event/board-meeting-13/
CATEGORIES:Board Meeting
END:VEVENT
BEGIN:VEVENT
DTSTART;TZID=America/Indiana/Indianapolis:20220102T120000
DTEND;TZID=America/Indiana/Indianapolis:20220102T140000
DTSTAMP:20260423T161612
CREATED:20211231T190807Z
LAST-MODIFIED:20211231T190811Z
UID:373-1641124800-1641132000@www.crawfordsvillegunclub.org
SUMMARY:Trap shoot
DESCRIPTION:
URL:https://www.crawfordsvillegunclub.org/event/trap-shoot-15/
END:VEVENT
BEGIN:VEVENT
DTSTART;TZID=America/Indiana/Indianapolis:20211226T120000
DTEND;TZID=America/Indiana/Indianapolis:20211226T140000
DTSTAMP:20260423T161612
CREATED:20210913T210002Z
LAST-MODIFIED:20210913T210002Z
UID:253-1640520000-1640527200@www.crawfordsvillegunclub.org
SUMMARY:Trap Shoot
DESCRIPTION:
URL:https://www.crawfordsvillegunclub.org/event/trap-shoot-13/
END:VEVENT
BEGIN:VEVENT
DTSTART;TZID=America/Indiana/Indianapolis:20211219T120000
DTEND;TZID=America/Indiana/Indianapolis:20211219T140000
DTSTAMP:20260423T161612
CREATED:20210913T205915Z
LAST-MODIFIED:20210913T205915Z
UID:251-1639915200-1639922400@www.crawfordsvillegunclub.org
SUMMARY:Trap Shoot
DESCRIPTION:
URL:https://www.crawfordsvillegunclub.org/event/trap-shoot-12/
END:VEVENT
BEGIN:VEVENT
DTSTART;TZID=America/Indiana/Indianapolis:20211212T120000
DTEND;TZID=America/Indiana/Indianapolis:20211212T140000
DTSTAMP:20260423T161612
CREATED:20210913T205834Z
LAST-MODIFIED:20210913T205834Z
UID:248-1639310400-1639317600@www.crawfordsvillegunclub.org
SUMMARY:Trap Shoot
DESCRIPTION:
URL:https://www.crawfordsvillegunclub.org/event/trap-shoot-11/
END:VEVENT
BEGIN:VEVENT
DTSTART;TZID=America/Indiana/Indianapolis:20211205T120000
DTEND;TZID=America/Indiana/Indianapolis:20211205T140000
DTSTAMP:20260423T161612
CREATED:20210913T205729Z
LAST-MODIFIED:20210913T205729Z
UID:246-1638705600-1638712800@www.crawfordsvillegunclub.org
SUMMARY:Trap Shoot
DESCRIPTION:
URL:https://www.crawfordsvillegunclub.org/event/trap-shoot-10/
END:VEVENT
BEGIN:VEVENT
DTSTART;TZID=America/Indiana/Indianapolis:20211205T090000
DTEND;TZID=America/Indiana/Indianapolis:20211205T110000
DTSTAMP:20260423T161612
CREATED:20210428T171103Z
LAST-MODIFIED:20210428T171103Z
UID:98-1638694800-1638702000@www.crawfordsvillegunclub.org
SUMMARY:Board Meeting
DESCRIPTION:
URL:https://www.crawfordsvillegunclub.org/event/board-meeting-12/
LOCATION:Crawfordsville Gun Club\, 3225 State Road 47 North\, Crawfordsville\, IN\, 47933\, United States
CATEGORIES:Board Meeting
END:VEVENT
END:VCALENDAR