BEGIN:VCALENDAR
VERSION:2.0
PRODID:-//Crawfordsville Gun Club - ECPv6.15.20//NONSGML v1.0//EN
CALSCALE:GREGORIAN
METHOD:PUBLISH
X-WR-CALNAME:Crawfordsville Gun Club
X-ORIGINAL-URL:https://www.crawfordsvillegunclub.org
X-WR-CALDESC:Events for Crawfordsville Gun Club
REFRESH-INTERVAL;VALUE=DURATION:PT1H
X-Robots-Tag:noindex
X-PUBLISHED-TTL:PT1H
BEGIN:VTIMEZONE
TZID:America/Indiana/Indianapolis
BEGIN:DAYLIGHT
TZOFFSETFROM:-0500
TZOFFSETTO:-0400
TZNAME:EDT
DTSTART:20240310T070000
END:DAYLIGHT
BEGIN:STANDARD
TZOFFSETFROM:-0400
TZOFFSETTO:-0500
TZNAME:EST
DTSTART:20241103T060000
END:STANDARD
BEGIN:DAYLIGHT
TZOFFSETFROM:-0500
TZOFFSETTO:-0400
TZNAME:EDT
DTSTART:20250309T070000
END:DAYLIGHT
BEGIN:STANDARD
TZOFFSETFROM:-0400
TZOFFSETTO:-0500
TZNAME:EST
DTSTART:20251102T060000
END:STANDARD
BEGIN:DAYLIGHT
TZOFFSETFROM:-0500
TZOFFSETTO:-0400
TZNAME:EDT
DTSTART:20260308T070000
END:DAYLIGHT
BEGIN:STANDARD
TZOFFSETFROM:-0400
TZOFFSETTO:-0500
TZNAME:EST
DTSTART:20261101T060000
END:STANDARD
END:VTIMEZONE
BEGIN:VEVENT
DTSTART;TZID=America/Indiana/Indianapolis:20250727T100000
DTEND;TZID=America/Indiana/Indianapolis:20250727T130000
DTSTAMP:20260421T212000
CREATED:20250510T143336Z
LAST-MODIFIED:20250510T143336Z
UID:2015-1753610400-1753621200@www.crawfordsvillegunclub.org
SUMMARY:Trap and 22 Shoot
DESCRIPTION:
URL:https://www.crawfordsvillegunclub.org/event/trap-and-22-shoot-24/
END:VEVENT
BEGIN:VEVENT
DTSTART;TZID=America/Indiana/Indianapolis:20250723T180000
DTEND;TZID=America/Indiana/Indianapolis:20250723T200000
DTSTAMP:20260421T212000
CREATED:20250702T004057Z
LAST-MODIFIED:20250702T004057Z
UID:2081-1753293600-1753300800@www.crawfordsvillegunclub.org
SUMMARY:Stock 10-22 shoot
DESCRIPTION:
URL:https://www.crawfordsvillegunclub.org/event/stock-10-22-shoot-4/
END:VEVENT
BEGIN:VEVENT
DTSTART;TZID=America/Indiana/Indianapolis:20250720T100000
DTEND;TZID=America/Indiana/Indianapolis:20250720T130000
DTSTAMP:20260421T212000
CREATED:20250510T143300Z
LAST-MODIFIED:20250510T143300Z
UID:2013-1753005600-1753016400@www.crawfordsvillegunclub.org
SUMMARY:Trap and 22 Shoot
DESCRIPTION:
URL:https://www.crawfordsvillegunclub.org/event/trap-and-22-shoot-23/
END:VEVENT
BEGIN:VEVENT
DTSTART;TZID=America/Indiana/Indianapolis:20250716T180000
DTEND;TZID=America/Indiana/Indianapolis:20250716T200000
DTSTAMP:20260421T212000
CREATED:20250702T004005Z
LAST-MODIFIED:20250702T004005Z
UID:2079-1752688800-1752696000@www.crawfordsvillegunclub.org
SUMMARY:Stock 10-22 shoot
DESCRIPTION:
URL:https://www.crawfordsvillegunclub.org/event/stock-10-22-shoot-3/
END:VEVENT
BEGIN:VEVENT
DTSTART;TZID=America/Indiana/Indianapolis:20250713T100000
DTEND;TZID=America/Indiana/Indianapolis:20250713T130000
DTSTAMP:20260421T212000
CREATED:20250510T143224Z
LAST-MODIFIED:20250510T143224Z
UID:2011-1752400800-1752411600@www.crawfordsvillegunclub.org
SUMMARY:Trap and 22 Shoot
DESCRIPTION:
URL:https://www.crawfordsvillegunclub.org/event/trap-and-22-shoot-22/
END:VEVENT
BEGIN:VEVENT
DTSTART;TZID=America/Indiana/Indianapolis:20250712T080000
DTEND;TZID=America/Indiana/Indianapolis:20250712T170000
DTSTAMP:20260421T212000
CREATED:20250706T195302Z
LAST-MODIFIED:20250706T195302Z
UID:2099-1752307200-1752339600@www.crawfordsvillegunclub.org
SUMMARY:22 rifle shooting bench construction
DESCRIPTION:
URL:https://www.crawfordsvillegunclub.org/event/22-rifle-shooting-bench-construction/
END:VEVENT
BEGIN:VEVENT
DTSTART;TZID=America/Indiana/Indianapolis:20250709T180000
DTEND;TZID=America/Indiana/Indianapolis:20250709T200000
DTSTAMP:20260421T212000
CREATED:20250702T003915Z
LAST-MODIFIED:20250702T003915Z
UID:2077-1752084000-1752091200@www.crawfordsvillegunclub.org
SUMMARY:Stock 10-22 shoot
DESCRIPTION:
URL:https://www.crawfordsvillegunclub.org/event/stock-10-22-shoot-2/
END:VEVENT
BEGIN:VEVENT
DTSTART;TZID=America/Indiana/Indianapolis:20250706T100000
DTEND;TZID=America/Indiana/Indianapolis:20250706T130000
DTSTAMP:20260421T212000
CREATED:20250510T143151Z
LAST-MODIFIED:20250510T143151Z
UID:2009-1751796000-1751806800@www.crawfordsvillegunclub.org
SUMMARY:Trap and 22 Shoot
DESCRIPTION:
URL:https://www.crawfordsvillegunclub.org/event/trap-and-22-shoot-21/
END:VEVENT
BEGIN:VEVENT
DTSTART;TZID=America/Indiana/Indianapolis:20250706T090000
DTEND;TZID=America/Indiana/Indianapolis:20250706T100000
DTSTAMP:20260421T212000
CREATED:20250510T143111Z
LAST-MODIFIED:20250510T143111Z
UID:2007-1751792400-1751796000@www.crawfordsvillegunclub.org
SUMMARY:Board Meeting
DESCRIPTION:
URL:https://www.crawfordsvillegunclub.org/event/board-meeting-54/
END:VEVENT
BEGIN:VEVENT
DTSTART;VALUE=DATE:20250704
DTEND;VALUE=DATE:20250705
DTSTAMP:20260421T212000
CREATED:20250510T143425Z
LAST-MODIFIED:20250510T143600Z
UID:2017-1751587200-1751673599@www.crawfordsvillegunclub.org
SUMMARY:4th of July!!
DESCRIPTION:
URL:https://www.crawfordsvillegunclub.org/event/4th-of-july-3/
END:VEVENT
BEGIN:VEVENT
DTSTART;TZID=America/Indiana/Indianapolis:20250702T180000
DTEND;TZID=America/Indiana/Indianapolis:20250702T200000
DTSTAMP:20260421T212000
CREATED:20250702T003831Z
LAST-MODIFIED:20250702T003831Z
UID:2075-1751479200-1751486400@www.crawfordsvillegunclub.org
SUMMARY:Stock 10-22 shoot
DESCRIPTION:
URL:https://www.crawfordsvillegunclub.org/event/stock-10-22-shoot/
END:VEVENT
BEGIN:VEVENT
DTSTART;TZID=America/Indiana/Indianapolis:20250629T100000
DTEND;TZID=America/Indiana/Indianapolis:20250629T130000
DTSTAMP:20260421T212000
CREATED:20250406T184850Z
LAST-MODIFIED:20250406T184850Z
UID:1975-1751191200-1751202000@www.crawfordsvillegunclub.org
SUMMARY:Trap and 22 shoot
DESCRIPTION:
URL:https://www.crawfordsvillegunclub.org/event/trap-and-22-shoot-20/
END:VEVENT
BEGIN:VEVENT
DTSTART;TZID=America/Indiana/Indianapolis:20250622T100000
DTEND;TZID=America/Indiana/Indianapolis:20250622T130000
DTSTAMP:20260421T212000
CREATED:20250406T184812Z
LAST-MODIFIED:20250406T184812Z
UID:1973-1750586400-1750597200@www.crawfordsvillegunclub.org
SUMMARY:Trap and 22 shoot
DESCRIPTION:
URL:https://www.crawfordsvillegunclub.org/event/trap-and-22-shoot-19/
END:VEVENT
BEGIN:VEVENT
DTSTART;TZID=America/Indiana/Indianapolis:20250615T100000
DTEND;TZID=America/Indiana/Indianapolis:20250615T130000
DTSTAMP:20260421T212000
CREATED:20250406T184728Z
LAST-MODIFIED:20250406T184728Z
UID:1971-1749981600-1749992400@www.crawfordsvillegunclub.org
SUMMARY:Trap and 22 shoot
DESCRIPTION:
URL:https://www.crawfordsvillegunclub.org/event/trap-and-22-shoot-18/
END:VEVENT
BEGIN:VEVENT
DTSTART;VALUE=DATE:20250615
DTEND;VALUE=DATE:20250616
DTSTAMP:20260421T212000
CREATED:20250518T170332Z
LAST-MODIFIED:20250518T170332Z
UID:2030-1749945600-1750031999@www.crawfordsvillegunclub.org
SUMMARY:Father's Day
DESCRIPTION:
URL:https://www.crawfordsvillegunclub.org/event/fathers-day-2/
END:VEVENT
BEGIN:VEVENT
DTSTART;TZID=America/Indiana/Indianapolis:20250608T100000
DTEND;TZID=America/Indiana/Indianapolis:20250608T130000
DTSTAMP:20260421T212000
CREATED:20250406T184653Z
LAST-MODIFIED:20250406T184653Z
UID:1969-1749376800-1749387600@www.crawfordsvillegunclub.org
SUMMARY:Trap and 22 shoot
DESCRIPTION:
URL:https://www.crawfordsvillegunclub.org/event/trap-and-22-shoot-17/
END:VEVENT
BEGIN:VEVENT
DTSTART;TZID=America/Indiana/Indianapolis:20250601T100000
DTEND;TZID=America/Indiana/Indianapolis:20250601T130000
DTSTAMP:20260421T212000
CREATED:20250406T184621Z
LAST-MODIFIED:20250406T184621Z
UID:1967-1748772000-1748782800@www.crawfordsvillegunclub.org
SUMMARY:Trap and 22 shoot
DESCRIPTION:
URL:https://www.crawfordsvillegunclub.org/event/trap-and-22-shoot-16/
END:VEVENT
BEGIN:VEVENT
DTSTART;TZID=America/Indiana/Indianapolis:20250601T090000
DTEND;TZID=America/Indiana/Indianapolis:20250601T100000
DTSTAMP:20260421T212000
CREATED:20250405T134903Z
LAST-MODIFIED:20250405T134903Z
UID:1962-1748768400-1748772000@www.crawfordsvillegunclub.org
SUMMARY:Board meeting
DESCRIPTION:
URL:https://www.crawfordsvillegunclub.org/event/board-meeting-53/
END:VEVENT
BEGIN:VEVENT
DTSTART;TZID=America/Indiana/Indianapolis:20250525T100000
DTEND;TZID=America/Indiana/Indianapolis:20250525T130000
DTSTAMP:20260421T212000
CREATED:20250315T125215Z
LAST-MODIFIED:20250315T125215Z
UID:1952-1748167200-1748178000@www.crawfordsvillegunclub.org
SUMMARY:Trap and 22 shoot
DESCRIPTION:
URL:https://www.crawfordsvillegunclub.org/event/trap-and-22-shoot-15/
END:VEVENT
BEGIN:VEVENT
DTSTART;TZID=America/Indiana/Indianapolis:20250518T110000
DTEND;TZID=America/Indiana/Indianapolis:20250518T140000
DTSTAMP:20260421T212000
CREATED:20250315T125120Z
LAST-MODIFIED:20250315T125120Z
UID:1950-1747566000-1747576800@www.crawfordsvillegunclub.org
SUMMARY:Member meeting
DESCRIPTION:
URL:https://www.crawfordsvillegunclub.org/event/member-meeting-4/
END:VEVENT
BEGIN:VEVENT
DTSTART;TZID=America/Indiana/Indianapolis:20250511T100000
DTEND;TZID=America/Indiana/Indianapolis:20250511T130000
DTSTAMP:20260421T212000
CREATED:20250315T125024Z
LAST-MODIFIED:20250315T125024Z
UID:1948-1746957600-1746968400@www.crawfordsvillegunclub.org
SUMMARY:Trap and 22 shoot
DESCRIPTION:
URL:https://www.crawfordsvillegunclub.org/event/trap-and-22-shoot-14/
END:VEVENT
BEGIN:VEVENT
DTSTART;TZID=America/Indiana/Indianapolis:20250504T100000
DTEND;TZID=America/Indiana/Indianapolis:20250504T130000
DTSTAMP:20260421T212000
CREATED:20250315T124937Z
LAST-MODIFIED:20250315T124937Z
UID:1946-1746352800-1746363600@www.crawfordsvillegunclub.org
SUMMARY:Trap and 22 shoot
DESCRIPTION:
URL:https://www.crawfordsvillegunclub.org/event/trap-and-22-shoot-13/
END:VEVENT
BEGIN:VEVENT
DTSTART;TZID=America/Indiana/Indianapolis:20250504T090000
DTEND;TZID=America/Indiana/Indianapolis:20250504T100000
DTSTAMP:20260421T212000
CREATED:20250315T124859Z
LAST-MODIFIED:20250315T124859Z
UID:1944-1746349200-1746352800@www.crawfordsvillegunclub.org
SUMMARY:Board meeting
DESCRIPTION:
URL:https://www.crawfordsvillegunclub.org/event/board-meeting-52/
END:VEVENT
BEGIN:VEVENT
DTSTART;TZID=America/Indiana/Indianapolis:20250427T100000
DTEND;TZID=America/Indiana/Indianapolis:20250427T130000
DTSTAMP:20260421T212000
CREATED:20250220T171428Z
LAST-MODIFIED:20250220T171428Z
UID:1926-1745748000-1745758800@www.crawfordsvillegunclub.org
SUMMARY:Trap and 22 shoot
DESCRIPTION:
URL:https://www.crawfordsvillegunclub.org/event/trap-and-22-shoot-12/
END:VEVENT
BEGIN:VEVENT
DTSTART;TZID=America/Indiana/Indianapolis:20250420T100000
DTEND;TZID=America/Indiana/Indianapolis:20250420T130000
DTSTAMP:20260421T212000
CREATED:20250220T171352Z
LAST-MODIFIED:20250220T171352Z
UID:1924-1745143200-1745154000@www.crawfordsvillegunclub.org
SUMMARY:Trap and 22 shoot
DESCRIPTION:
URL:https://www.crawfordsvillegunclub.org/event/trap-and-22-shoot-11/
END:VEVENT
BEGIN:VEVENT
DTSTART;VALUE=DATE:20250420
DTEND;VALUE=DATE:20250421
DTSTAMP:20260421T212000
CREATED:20250220T171315Z
LAST-MODIFIED:20250220T171315Z
UID:1922-1745107200-1745193599@www.crawfordsvillegunclub.org
SUMMARY:Easter
DESCRIPTION:
URL:https://www.crawfordsvillegunclub.org/event/easter/
END:VEVENT
BEGIN:VEVENT
DTSTART;TZID=America/Indiana/Indianapolis:20250413T100000
DTEND;TZID=America/Indiana/Indianapolis:20250413T130000
DTSTAMP:20260421T212000
CREATED:20250220T171246Z
LAST-MODIFIED:20250220T171246Z
UID:1920-1744538400-1744549200@www.crawfordsvillegunclub.org
SUMMARY:Trap and 22 shoot
DESCRIPTION:
URL:https://www.crawfordsvillegunclub.org/event/trap-and-22-shoot-10/
END:VEVENT
BEGIN:VEVENT
DTSTART;VALUE=DATE:20250413
DTEND;VALUE=DATE:20250414
DTSTAMP:20260421T212000
CREATED:20250220T171202Z
LAST-MODIFIED:20250220T171202Z
UID:1918-1744502400-1744588799@www.crawfordsvillegunclub.org
SUMMARY:Palm Sunday
DESCRIPTION:
URL:https://www.crawfordsvillegunclub.org/event/palm-sunday-2/
END:VEVENT
BEGIN:VEVENT
DTSTART;TZID=America/Indiana/Indianapolis:20250406T100000
DTEND;TZID=America/Indiana/Indianapolis:20250406T130000
DTSTAMP:20260421T212000
CREATED:20250220T171130Z
LAST-MODIFIED:20250220T171130Z
UID:1916-1743933600-1743944400@www.crawfordsvillegunclub.org
SUMMARY:Trap and 22 shoot
DESCRIPTION:
URL:https://www.crawfordsvillegunclub.org/event/trap-and-22-shoot-9/
END:VEVENT
BEGIN:VEVENT
DTSTART;TZID=America/Indiana/Indianapolis:20250406T090000
DTEND;TZID=America/Indiana/Indianapolis:20250406T100000
DTSTAMP:20260421T212000
CREATED:20250220T171043Z
LAST-MODIFIED:20250220T171043Z
UID:1914-1743930000-1743933600@www.crawfordsvillegunclub.org
SUMMARY:Board meeting
DESCRIPTION:
URL:https://www.crawfordsvillegunclub.org/event/board-meeting-51/
END:VEVENT
END:VCALENDAR