BEGIN:VCALENDAR
VERSION:2.0
PRODID:-//Crawfordsville Gun Club - ECPv6.15.20//NONSGML v1.0//EN
CALSCALE:GREGORIAN
METHOD:PUBLISH
X-WR-CALNAME:Crawfordsville Gun Club
X-ORIGINAL-URL:https://www.crawfordsvillegunclub.org
X-WR-CALDESC:Events for Crawfordsville Gun Club
REFRESH-INTERVAL;VALUE=DURATION:PT1H
X-Robots-Tag:noindex
X-PUBLISHED-TTL:PT1H
BEGIN:VTIMEZONE
TZID:America/Indiana/Indianapolis
BEGIN:DAYLIGHT
TZOFFSETFROM:-0500
TZOFFSETTO:-0400
TZNAME:EDT
DTSTART:20230312T070000
END:DAYLIGHT
BEGIN:STANDARD
TZOFFSETFROM:-0400
TZOFFSETTO:-0500
TZNAME:EST
DTSTART:20231105T060000
END:STANDARD
BEGIN:DAYLIGHT
TZOFFSETFROM:-0500
TZOFFSETTO:-0400
TZNAME:EDT
DTSTART:20240310T070000
END:DAYLIGHT
BEGIN:STANDARD
TZOFFSETFROM:-0400
TZOFFSETTO:-0500
TZNAME:EST
DTSTART:20241103T060000
END:STANDARD
BEGIN:DAYLIGHT
TZOFFSETFROM:-0500
TZOFFSETTO:-0400
TZNAME:EDT
DTSTART:20250309T070000
END:DAYLIGHT
BEGIN:STANDARD
TZOFFSETFROM:-0400
TZOFFSETTO:-0500
TZNAME:EST
DTSTART:20251102T060000
END:STANDARD
BEGIN:DAYLIGHT
TZOFFSETFROM:-0500
TZOFFSETTO:-0400
TZNAME:EDT
DTSTART:20260308T070000
END:DAYLIGHT
BEGIN:STANDARD
TZOFFSETFROM:-0400
TZOFFSETTO:-0500
TZNAME:EST
DTSTART:20261101T060000
END:STANDARD
END:VTIMEZONE
BEGIN:VEVENT
DTSTART;TZID=America/Indiana/Indianapolis:20250216T100000
DTEND;TZID=America/Indiana/Indianapolis:20250216T130000
DTSTAMP:20260422T011957
CREATED:20241227T190745Z
LAST-MODIFIED:20241227T190745Z
UID:1862-1739700000-1739710800@www.crawfordsvillegunclub.org
SUMMARY:Trap and 22 shoot
DESCRIPTION:
URL:https://www.crawfordsvillegunclub.org/event/trap-and-22-shoot-2/
END:VEVENT
BEGIN:VEVENT
DTSTART;TZID=America/Indiana/Indianapolis:20250209T100000
DTEND;TZID=America/Indiana/Indianapolis:20250209T130000
DTSTAMP:20260422T011957
CREATED:20241227T190643Z
LAST-MODIFIED:20241227T190643Z
UID:1860-1739095200-1739106000@www.crawfordsvillegunclub.org
SUMMARY:Trap and 22 shoot
DESCRIPTION:
URL:https://www.crawfordsvillegunclub.org/event/trap-and-22-shoot/
END:VEVENT
BEGIN:VEVENT
DTSTART;TZID=America/Indiana/Indianapolis:20250202T100000
DTEND;TZID=America/Indiana/Indianapolis:20250202T130000
DTSTAMP:20260422T011957
CREATED:20241227T190514Z
LAST-MODIFIED:20241227T190514Z
UID:1858-1738490400-1738501200@www.crawfordsvillegunclub.org
SUMMARY:Trap and 22 shoot. For all shooting dates in Feb.\, weather permitting
DESCRIPTION:
URL:https://www.crawfordsvillegunclub.org/event/trap-and-22-shoot-for-all-shooting-dates-in-feb-weather-permitting/
END:VEVENT
BEGIN:VEVENT
DTSTART;TZID=America/Indiana/Indianapolis:20250202T090000
DTEND;TZID=America/Indiana/Indianapolis:20250202T100000
DTSTAMP:20260422T011957
CREATED:20241128T165500Z
LAST-MODIFIED:20241128T165500Z
UID:1837-1738486800-1738490400@www.crawfordsvillegunclub.org
SUMMARY:Board Meeting
DESCRIPTION:
URL:https://www.crawfordsvillegunclub.org/event/board-meeting-49/
END:VEVENT
BEGIN:VEVENT
DTSTART;TZID=America/Indiana/Indianapolis:20250202T090000
DTEND;TZID=America/Indiana/Indianapolis:20250202T100000
DTSTAMP:20260422T011957
CREATED:20241128T165415Z
LAST-MODIFIED:20241128T165415Z
UID:1835-1738486800-1738490400@www.crawfordsvillegunclub.org
SUMMARY:Board Meeting
DESCRIPTION:
URL:https://www.crawfordsvillegunclub.org/event/board-meeting-48/
END:VEVENT
BEGIN:VEVENT
DTSTART;TZID=America/Indiana/Indianapolis:20250126T100000
DTEND;TZID=America/Indiana/Indianapolis:20250126T130000
DTSTAMP:20260422T011957
CREATED:20241202T210642Z
LAST-MODIFIED:20241202T210642Z
UID:1849-1737885600-1737896400@www.crawfordsvillegunclub.org
SUMMARY:Trap shoot\, 22 shoot
DESCRIPTION:
URL:https://www.crawfordsvillegunclub.org/event/trap-shoot-22-shoot-4/
END:VEVENT
BEGIN:VEVENT
DTSTART;TZID=America/Indiana/Indianapolis:20250119T100000
DTEND;TZID=America/Indiana/Indianapolis:20250119T130000
DTSTAMP:20260422T011957
CREATED:20241202T210602Z
LAST-MODIFIED:20241202T210602Z
UID:1847-1737280800-1737291600@www.crawfordsvillegunclub.org
SUMMARY:Trap shoot\, 22 shoot
DESCRIPTION:
URL:https://www.crawfordsvillegunclub.org/event/trap-shoot-22-shoot-3/
END:VEVENT
BEGIN:VEVENT
DTSTART;TZID=America/Indiana/Indianapolis:20250119T100000
DTEND;TZID=America/Indiana/Indianapolis:20250119T130000
DTSTAMP:20260422T011957
CREATED:20241202T210514Z
LAST-MODIFIED:20241202T210514Z
UID:1845-1737280800-1737291600@www.crawfordsvillegunclub.org
SUMMARY:Trap shoot\, 22 shoot
DESCRIPTION:
URL:https://www.crawfordsvillegunclub.org/event/trap-shoot-22-shoot-2/
END:VEVENT
BEGIN:VEVENT
DTSTART;TZID=America/Indiana/Indianapolis:20250112T100000
DTEND;TZID=America/Indiana/Indianapolis:20250112T130000
DTSTAMP:20260422T011957
CREATED:20241202T210433Z
LAST-MODIFIED:20241202T210433Z
UID:1843-1736676000-1736686800@www.crawfordsvillegunclub.org
SUMMARY:Trap shoot\, 22 shoot
DESCRIPTION:
URL:https://www.crawfordsvillegunclub.org/event/trap-shoot-22-shoot/
END:VEVENT
BEGIN:VEVENT
DTSTART;TZID=America/Indiana/Indianapolis:20250105T100000
DTEND;TZID=America/Indiana/Indianapolis:20250105T130000
DTSTAMP:20260422T011957
CREATED:20241202T210337Z
LAST-MODIFIED:20241202T210337Z
UID:1841-1736071200-1736082000@www.crawfordsvillegunclub.org
SUMMARY:Trap shoot\, 22 shoot. Weather permitting for all January dates
DESCRIPTION:
URL:https://www.crawfordsvillegunclub.org/event/trap-shoot-22-shoot-weather-permitting-for-all-january-dates/
END:VEVENT
BEGIN:VEVENT
DTSTART;TZID=America/Indiana/Indianapolis:20250105T090000
DTEND;TZID=America/Indiana/Indianapolis:20250105T100000
DTSTAMP:20260422T011957
CREATED:20241128T162637Z
LAST-MODIFIED:20241128T163005Z
UID:1833-1736067600-1736071200@www.crawfordsvillegunclub.org
SUMMARY:Board Meeting
DESCRIPTION:
URL:https://www.crawfordsvillegunclub.org/event/board-meeting-47/
END:VEVENT
BEGIN:VEVENT
DTSTART;TZID=America/Indiana/Indianapolis:20241229T100000
DTEND;TZID=America/Indiana/Indianapolis:20241229T130000
DTSTAMP:20260422T011957
CREATED:20241012T190027Z
LAST-MODIFIED:20241012T190027Z
UID:1798-1735466400-1735477200@www.crawfordsvillegunclub.org
SUMMARY:Trap and 22 shoot 10-1pm
DESCRIPTION:
URL:https://www.crawfordsvillegunclub.org/event/trap-and-22-shoot-10-1pm-9/
END:VEVENT
BEGIN:VEVENT
DTSTART;TZID=America/Indiana/Indianapolis:20241222T100000
DTEND;TZID=America/Indiana/Indianapolis:20241222T130000
DTSTAMP:20260422T011957
CREATED:20241012T185944Z
LAST-MODIFIED:20241012T185944Z
UID:1796-1734861600-1734872400@www.crawfordsvillegunclub.org
SUMMARY:Trap and 22 shoot 10-1pm
DESCRIPTION:
URL:https://www.crawfordsvillegunclub.org/event/trap-and-22-shoot-10-1pm-8/
END:VEVENT
BEGIN:VEVENT
DTSTART;TZID=America/Indiana/Indianapolis:20241215T100000
DTEND;TZID=America/Indiana/Indianapolis:20241215T130000
DTSTAMP:20260422T011957
CREATED:20241012T185907Z
LAST-MODIFIED:20241012T185907Z
UID:1794-1734256800-1734267600@www.crawfordsvillegunclub.org
SUMMARY:Trap and 22 shoot 10-1pm
DESCRIPTION:
URL:https://www.crawfordsvillegunclub.org/event/trap-and-22-shoot-10-1pm-7/
END:VEVENT
BEGIN:VEVENT
DTSTART;TZID=America/Indiana/Indianapolis:20241208T080000
DTEND;TZID=America/Indiana/Indianapolis:20241208T130000
DTSTAMP:20260422T011957
CREATED:20241012T185814Z
LAST-MODIFIED:20241012T185814Z
UID:1792-1733644800-1733662800@www.crawfordsvillegunclub.org
SUMMARY:Trap and 22 shoot 10-1pm
DESCRIPTION:
URL:https://www.crawfordsvillegunclub.org/event/trap-and-22-shoot-10-1pm-6/
END:VEVENT
BEGIN:VEVENT
DTSTART;TZID=America/Indiana/Indianapolis:20241201T100000
DTEND;TZID=America/Indiana/Indianapolis:20241201T130000
DTSTAMP:20260422T011957
CREATED:20241012T185734Z
LAST-MODIFIED:20241012T185734Z
UID:1790-1733047200-1733058000@www.crawfordsvillegunclub.org
SUMMARY:Trap and 22 shoot 10-1pm
DESCRIPTION:
URL:https://www.crawfordsvillegunclub.org/event/trap-and-22-shoot-10-1pm-5/
END:VEVENT
BEGIN:VEVENT
DTSTART;TZID=America/Indiana/Indianapolis:20241201T090000
DTEND;TZID=America/Indiana/Indianapolis:20241201T100000
DTSTAMP:20260422T011957
CREATED:20240711T180836Z
LAST-MODIFIED:20240711T180836Z
UID:1689-1733043600-1733047200@www.crawfordsvillegunclub.org
SUMMARY:Board meeting
DESCRIPTION:
URL:https://www.crawfordsvillegunclub.org/event/board-meeting-46/
END:VEVENT
BEGIN:VEVENT
DTSTART;TZID=America/Indiana/Indianapolis:20241124T100000
DTEND;TZID=America/Indiana/Indianapolis:20241124T130000
DTSTAMP:20260422T011957
CREATED:20241012T185004Z
LAST-MODIFIED:20241012T185004Z
UID:1788-1732442400-1732453200@www.crawfordsvillegunclub.org
SUMMARY:Trap and 22 shoot 10-1pm
DESCRIPTION:
URL:https://www.crawfordsvillegunclub.org/event/trap-and-22-shoot-10-1pm-4/
END:VEVENT
BEGIN:VEVENT
DTSTART;TZID=America/Indiana/Indianapolis:20241117T100000
DTEND;TZID=America/Indiana/Indianapolis:20241117T130000
DTSTAMP:20260422T011957
CREATED:20241012T184920Z
LAST-MODIFIED:20241012T184920Z
UID:1786-1731837600-1731848400@www.crawfordsvillegunclub.org
SUMMARY:Trap and 22 shoot 10-1pm
DESCRIPTION:
URL:https://www.crawfordsvillegunclub.org/event/trap-and-22-shoot-10-1pm-3/
END:VEVENT
BEGIN:VEVENT
DTSTART;TZID=America/Indiana/Indianapolis:20241110T100000
DTEND;TZID=America/Indiana/Indianapolis:20241110T130000
DTSTAMP:20260422T011957
CREATED:20241012T184838Z
LAST-MODIFIED:20241012T184838Z
UID:1784-1731232800-1731243600@www.crawfordsvillegunclub.org
SUMMARY:Trap and 22 shoot 10-1pm
DESCRIPTION:
URL:https://www.crawfordsvillegunclub.org/event/trap-and-22-shoot-10-1pm-2/
END:VEVENT
BEGIN:VEVENT
DTSTART;TZID=America/Indiana/Indianapolis:20241103T100000
DTEND;TZID=America/Indiana/Indianapolis:20241103T130000
DTSTAMP:20260422T011957
CREATED:20241012T184752Z
LAST-MODIFIED:20241012T184752Z
UID:1782-1730628000-1730638800@www.crawfordsvillegunclub.org
SUMMARY:Trap and 22 shoot 10-1pm
DESCRIPTION:
URL:https://www.crawfordsvillegunclub.org/event/trap-and-22-shoot-10-1pm/
END:VEVENT
BEGIN:VEVENT
DTSTART;TZID=America/Indiana/Indianapolis:20241103T090000
DTEND;TZID=America/Indiana/Indianapolis:20241103T100000
DTSTAMP:20260422T011957
CREATED:20240711T180751Z
LAST-MODIFIED:20240711T180751Z
UID:1687-1730624400-1730628000@www.crawfordsvillegunclub.org
SUMMARY:Board meeting
DESCRIPTION:
URL:https://www.crawfordsvillegunclub.org/event/board-meeting-45/
END:VEVENT
BEGIN:VEVENT
DTSTART;TZID=America/Indiana/Indianapolis:20241027T100000
DTEND;TZID=America/Indiana/Indianapolis:20241027T130000
DTSTAMP:20260422T011957
CREATED:20240909T134732Z
LAST-MODIFIED:20240909T134732Z
UID:1745-1730023200-1730034000@www.crawfordsvillegunclub.org
SUMMARY:Trap shoot 10-12\, 22 shoot 11-1pm
DESCRIPTION:
URL:https://www.crawfordsvillegunclub.org/event/trap-shoot-10-12-22-shoot-11-1pm-17/
END:VEVENT
BEGIN:VEVENT
DTSTART;TZID=America/Indiana/Indianapolis:20241020T100000
DTEND;TZID=America/Indiana/Indianapolis:20241020T130000
DTSTAMP:20260422T011957
CREATED:20240909T134629Z
LAST-MODIFIED:20240909T134629Z
UID:1743-1729418400-1729429200@www.crawfordsvillegunclub.org
SUMMARY:Trap shoot 10-12\, 22 shoot 11-1pm
DESCRIPTION:
URL:https://www.crawfordsvillegunclub.org/event/trap-shoot-10-12-22-shoot-11-1pm-16/
END:VEVENT
BEGIN:VEVENT
DTSTART;TZID=America/Indiana/Indianapolis:20241013T100000
DTEND;TZID=America/Indiana/Indianapolis:20241013T130000
DTSTAMP:20260422T011957
CREATED:20240909T134117Z
LAST-MODIFIED:20240909T134117Z
UID:1741-1728813600-1728824400@www.crawfordsvillegunclub.org
SUMMARY:Trap shoot 10-12\, 22 shoot 11-1pm
DESCRIPTION:
URL:https://www.crawfordsvillegunclub.org/event/trap-shoot-10-12-22-shoot-11-1pm-15/
END:VEVENT
BEGIN:VEVENT
DTSTART;TZID=America/Indiana/Indianapolis:20241006T090000
DTEND;TZID=America/Indiana/Indianapolis:20241006T130000
DTSTAMP:20260422T011957
CREATED:20240805T201730Z
LAST-MODIFIED:20240805T201730Z
UID:1714-1728205200-1728219600@www.crawfordsvillegunclub.org
SUMMARY:Trap shoot 10-12\, 22 shoot 11-1pm
DESCRIPTION:
URL:https://www.crawfordsvillegunclub.org/event/trap-shoot-10-12-22-shoot-11-1pm-13/
END:VEVENT
BEGIN:VEVENT
DTSTART;TZID=America/Indiana/Indianapolis:20241006T090000
DTEND;TZID=America/Indiana/Indianapolis:20241006T100000
DTSTAMP:20260422T011957
CREATED:20240711T180705Z
LAST-MODIFIED:20240711T180705Z
UID:1685-1728205200-1728208800@www.crawfordsvillegunclub.org
SUMMARY:Board meeting
DESCRIPTION:
URL:https://www.crawfordsvillegunclub.org/event/board-meeting-44/
END:VEVENT
BEGIN:VEVENT
DTSTART;TZID=America/Indiana/Indianapolis:20240929T100000
DTEND;TZID=America/Indiana/Indianapolis:20240929T130000
DTSTAMP:20260422T011957
CREATED:20240729T143726Z
LAST-MODIFIED:20240729T143726Z
UID:1709-1727604000-1727614800@www.crawfordsvillegunclub.org
SUMMARY:Trap shoot 10-12\, 22 shoot 11-1pm
DESCRIPTION:
URL:https://www.crawfordsvillegunclub.org/event/trap-shoot-10-12-22-shoot-11-1pm-12/
END:VEVENT
BEGIN:VEVENT
DTSTART;TZID=America/Indiana/Indianapolis:20240922T100000
DTEND;TZID=America/Indiana/Indianapolis:20240922T130000
DTSTAMP:20260422T011957
CREATED:20240729T143618Z
LAST-MODIFIED:20240729T143618Z
UID:1707-1726999200-1727010000@www.crawfordsvillegunclub.org
SUMMARY:Trap shoot 10-12\, 22 shoot 11-1pm
DESCRIPTION:
URL:https://www.crawfordsvillegunclub.org/event/trap-shoot-10-12-22-shoot-11-1pm-11/
END:VEVENT
BEGIN:VEVENT
DTSTART;TZID=America/Indiana/Indianapolis:20240915T110000
DTEND;TZID=America/Indiana/Indianapolis:20240915T140000
DTSTAMP:20260422T011957
CREATED:20240729T143435Z
LAST-MODIFIED:20240729T143435Z
UID:1705-1726398000-1726408800@www.crawfordsvillegunclub.org
SUMMARY:Members meeting 11-2pm\, Trap and 22 shoot after meeting
DESCRIPTION:
URL:https://www.crawfordsvillegunclub.org/event/members-meeting-11-2pm-trap-and-22-shoot-after-meeting/
END:VEVENT
END:VCALENDAR